{"text_format":"1","workbook":"xlsx","n_sheets":3,"sheets":["SKU detail","Consolidated Purchase History","A Chart"],"not_rendered":{"charts":1,"images":0,"macros":1,"external_links":0,"defined_names":5,"comments":0,"pivot_tables":0},"unopened":[],"bounds":{"document_bytes":16777216,"sheet_cells":100000,"rows_first":2000,"rows_last":500,"rows_between":2000,"halvings":0,"cell_chars":16384,"cell_head_chars":4096},"cells_cut":0,"cells_raw":0,"read":"whole","date_system":"1900"}

{"sheet":"SKU detail","index":0,"n_rows":2,"n_cols":6,"rows_kept":2,"cut":false,"hidden":false,"merged":[]}
["SKU ID","Application Name","Application Version","OS Version","Platform Name","Market"]
["62f092f6-af4d-47a8-af53-bd5a817d20f7","Carlos: Where did I park","1.1","Windows Mobile 6.0, 6.1, 6.5","Professional","en-AU"]

{"sheet":"Consolidated Purchase History","index":1,"n_rows":487,"n_cols":10,"rows_kept":487,"cut":false,"hidden":false,"merged":[]}
["SKU ID","Order ID","Tracking ID","Purchase State","Account ID","Purchase Date","Device Id","Product Name","JustDate","Downloaded"]
[null,null,null,null,null,null,null,{"$f":"VLOOKUP(A2,SKUdetail,2,FALSE)","v":{"$error":"#N/A"}},{"$f":"INT(F2)","v":"00:00:00"},"2010-05-06"]
[null,null,null,null,null,null,null,{"$error":"#N/A"},"00:00:00","2010-05-06"]
[null,null,null,null,null,null,null,{"$error":"#N/A"},"00:00:00","2010-05-06"]
[null,null,null,null,null,null,null,{"$error":"#N/A"},"00:00:00","2010-05-06"]
[null,null,null,null,null,null,null,{"$error":"#N/A"},"00:00:00","2010-05-06"]
[null,null,null,null,null,null,null,{"$error":"#N/A"},"00:00:00","2010-05-06"]
[null,null,null,null,null,null,null,{"$error":"#N/A"},"00:00:00","2010-05-06"]
[null,null,null,null,null,null,null,{"$error":"#N/A"},"00:00:00","2010-05-06"]
[null,null,null,null,null,null,null,{"$error":"#N/A"},"00:00:00","2010-05-06"]
[null,null,null,null,null,null,null,{"$error":"#N/A"},"00:00:00","2010-05-06"]
[null,null,null,null,null,null,null,{"$error":"#N/A"},"00:00:00","2010-05-06"]
[null,null,null,null,null,null,null,{"$error":"#N/A"},"00:00:00","2010-05-06"]
[null,null,null,null,null,null,null,{"$error":"#N/A"},"00:00:00","2010-05-06"]
[null,null,null,null,null,null,null,{"$error":"#N/A"},"00:00:00","2010-05-06"]
[null,null,null,null,null,null,null,{"$error":"#N/A"},"00:00:00","2010-05-06"]
[null,null,null,null,null,null,null,{"$error":"#N/A"},"00:00:00","2010-05-06"]
[null,null,null,null,null,null,null,{"$error":"#N/A"},"00:00:00","2010-05-06"]
[null,null,null,null,null,null,null,{"$error":"#N/A"},"00:00:00","2010-05-06"]
[null,null,null,null,null,null,null,{"$error":"#N/A"},"00:00:00","2010-05-06"]
[null,null,null,null,null,null,null,{"$error":"#N/A"},"00:00:00","2010-05-06"]
[null,null,null,null,null,null,null,{"$error":"#N/A"},"00:00:00","2010-05-06"]
[null,null,null,null,null,null,null,{"$error":"#N/A"},"00:00:00","2010-05-06"]
[null,null,null,null,null,null,null,{"$error":"#N/A"},"00:00:00","2010-05-06"]
[null,null,null,null,null,null,null,{"$error":"#N/A"},"00:00:00","2010-05-06"]
[null,null,null,null,null,null,null,{"$error":"#N/A"},"00:00:00","2010-05-06"]
[null,null,null,null,null,null,null,{"$error":"#N/A"},"00:00:00","2010-05-06"]
[null,null,null,null,null,null,null,{"$error":"#N/A"},"00:00:00","2010-05-06"]
[null,null,null,null,null,null,null,{"$error":"#N/A"},{"$f":"INT(F29)","v":"00:00:00"},"2010-05-06"]
[null,null,null,null,null,null,null,{"$error":"#N/A"},"00:00:00","2010-05-06"]
[null,null,null,null,null,null,null,{"$error":"#N/A"},"00:00:00","2010-05-06"]
[null,null,null,null,null,null,null,{"$error":"#N/A"},"00:00:00","2010-05-06"]
[null,null,null,null,null,null,null,{"$error":"#N/A"},"00:00:00","2010-05-06"]
[null,null,null,null,null,null,null,{"$error":"#N/A"},"00:00:00","2010-05-06"]
[null,null,null,null,null,null,null,{"$error":"#N/A"},"00:00:00","2010-05-06"]
[null,null,null,null,null,null,null,{"$error":"#N/A"},"00:00:00","2010-05-06"]
[null,null,null,null,null,null,null,{"$error":"#N/A"},"00:00:00","2010-05-06"]
[null,null,null,null,null,null,null,{"$error":"#N/A"},"00:00:00","2010-05-06"]
[null,null,null,null,null,null,null,{"$error":"#N/A"},"00:00:00","2010-05-06"]
[null,null,null,null,null,null,null,{"$error":"#N/A"},"00:00:00","2010-05-06"]
[null,null,null,null,null,null,null,{"$error":"#N/A"},"00:00:00","2010-05-06"]
[null,null,null,null,null,null,null,{"$error":"#N/A"},"00:00:00","2010-05-06"]
[null,null,null,null,null,null,null,{"$error":"#N/A"},"00:00:00","2010-05-06"]
[null,null,null,null,null,null,null,{"$error":"#N/A"},"00:00:00","2010-05-06"]
[null,null,null,null,null,null,null,{"$error":"#N/A"},"00:00:00","2010-05-06"]
[null,null,null,null,null,null,null,{"$error":"#N/A"},"00:00:00","2010-05-06"]
[null,null,null,null,null,null,null,{"$error":"#N/A"},"00:00:00","2010-05-06"]
[null,null,null,null,null,null,null,{"$error":"#N/A"},"00:00:00","2010-05-06"]
[null,null,null,null,null,null,null,{"$error":"#N/A"},"00:00:00","2010-05-06"]
[null,null,null,null,null,null,null,{"$error":"#N/A"},"00:00:00","2010-05-06"]
[null,null,null,null,null,null,null,{"$error":"#N/A"},"00:00:00","2010-05-06"]
[null,null,null,null,null,null,null,{"$error":"#N/A"},"00:00:00","2010-05-06"]
[null,null,null,null,null,null,null,{"$error":"#N/A"},"00:00:00","2010-05-06"]
[null,null,null,null,null,null,null,{"$error":"#N/A"},"00:00:00","2010-05-06"]
[null,null,null,null,null,null,null,{"$error":"#N/A"},"00:00:00","2010-05-06"]
[null,null,null,null,null,null,null,{"$error":"#N/A"},"00:00:00","2010-05-06"]
[null,null,null,null,null,null,null,{"$error":"#N/A"},"00:00:00","2010-05-06"]
[null,null,null,null,null,null,null,{"$error":"#N/A"},"00:00:00","2010-05-06"]
[null,null,null,null,null,null,null,{"$error":"#N/A"},"00:00:00","2010-05-06"]
[null,null,null,null,null,null,null,{"$error":"#N/A"},"00:00:00","2010-05-06"]
[null,null,null,null,null,null,null,{"$error":"#N/A"},"00:00:00","2010-05-06"]
[null,null,null,null,null,null,null,{"$error":"#N/A"},"00:00:00","2010-05-06"]
[null,null,null,null,null,null,null,{"$error":"#N/A"},"00:00:00","2010-05-06"]
[null,null,null,null,null,null,null,{"$error":"#N/A"},"00:00:00","2010-05-06"]
[null,null,null,null,null,null,null,{"$error":"#N/A"},"00:00:00","2010-05-06"]
[null,null,null,null,null,null,null,{"$f":"VLOOKUP(A66,SKUdetail,2,FALSE)","v":{"$error":"#N/A"}},"00:00:00","2010-05-06"]
[null,null,null,null,null,null,null,{"$error":"#N/A"},"00:00:00","2010-05-06"]
[null,null,null,null,null,null,null,{"$error":"#N/A"},"00:00:00","2010-05-06"]
[null,null,null,null,null,null,null,{"$error":"#N/A"},"00:00:00","2010-05-06"]
[null,null,null,null,null,null,null,{"$error":"#N/A"},"00:00:00","2010-05-06"]
[null,null,null,null,null,null,null,{"$error":"#N/A"},"00:00:00","2010-05-06"]
[null,null,null,null,null,null,null,{"$error":"#N/A"},"00:00:00","2010-05-06"]
[null,null,null,null,null,null,null,{"$error":"#N/A"},"00:00:00","2010-05-06"]
[null,null,null,null,null,null,null,{"$error":"#N/A"},"00:00:00","2010-05-06"]
[null,null,null,null,null,null,null,{"$error":"#N/A"},"00:00:00","2010-05-06"]
[null,null,null,null,null,null,null,{"$error":"#N/A"},"00:00:00","2010-05-06"]
[null,null,null,null,null,null,null,{"$error":"#N/A"},"00:00:00","2010-05-06"]
[null,null,null,null,null,null,null,{"$error":"#N/A"},"00:00:00","2010-05-06"]
[null,null,null,null,null,null,null,{"$error":"#N/A"},"00:00:00","2010-05-06"]
[null,null,null,null,null,null,null,{"$error":"#N/A"},"00:00:00","2010-05-06"]
[null,null,null,null,null,null,null,{"$error":"#N/A"},"00:00:00","2010-05-06"]
[null,null,null,null,null,null,null,{"$error":"#N/A"},"00:00:00","2010-05-06"]
[null,null,null,null,null,null,null,{"$error":"#N/A"},"00:00:00","2010-05-06"]
[null,null,null,null,null,null,null,{"$error":"#N/A"},"00:00:00","2010-05-06"]
[null,null,null,null,null,null,null,{"$error":"#N/A"},"00:00:00","2010-05-06"]
[null,null,null,null,null,null,null,{"$error":"#N/A"},"00:00:00","2010-05-06"]
[null,null,null,null,null,null,null,{"$error":"#N/A"},"00:00:00","2010-05-06"]
[null,null,null,null,null,null,null,{"$error":"#N/A"},"00:00:00","2010-05-06"]
[null,null,null,null,null,null,null,{"$error":"#N/A"},"00:00:00","2010-05-06"]
[null,null,null,null,null,null,null,{"$error":"#N/A"},"00:00:00","2010-05-06"]
[null,null,null,null,null,null,null,{"$error":"#N/A"},"00:00:00","2010-05-06"]
[null,null,null,null,null,null,null,{"$error":"#N/A"},"00:00:00","2010-05-06"]
[null,null,null,null,null,null,null,{"$error":"#N/A"},{"$f":"INT(F93)","v":"00:00:00"},"2010-05-06"]
[null,null,null,null,null,null,null,{"$error":"#N/A"},"00:00:00","2010-05-06"]
[null,null,null,null,null,null,null,{"$error":"#N/A"},"00:00:00","2010-05-06"]
[null,null,null,null,null,null,null,{"$error":"#N/A"},"00:00:00","2010-05-06"]
[null,null,null,null,null,null,null,{"$error":"#N/A"},"00:00:00","2010-05-06"]
[null,null,null,null,null,null,null,{"$error":"#N/A"},"00:00:00","2010-05-06"]
[null,null,null,null,null,null,null,{"$error":"#N/A"},"00:00:00","2010-05-06"]
[null,null,null,null,null,null,null,{"$error":"#N/A"},"00:00:00","2010-05-06"]
[null,null,null,null,null,null,null,{"$error":"#N/A"},"00:00:00","2010-05-06"]
[null,null,null,null,null,null,null,{"$error":"#N/A"},"00:00:00","2010-05-06"]
[null,null,null,null,null,null,null,{"$error":"#N/A"},"00:00:00","2010-05-06"]
[null,null,null,null,null,null,null,{"$error":"#N/A"},"00:00:00","2010-05-06"]
[null,null,null,null,null,null,null,{"$error":"#N/A"},"00:00:00","2010-05-06"]
[null,null,null,null,null,null,null,{"$error":"#N/A"},"00:00:00","2010-05-06"]
[null,null,null,null,null,null,null,{"$error":"#N/A"},"00:00:00","2010-05-06"]
[null,null,null,null,null,null,null,{"$error":"#N/A"},"00:00:00","2010-05-06"]
[null,null,null,null,null,null,null,{"$error":"#N/A"},"00:00:00","2010-05-06"]
[null,null,null,null,null,null,null,{"$error":"#N/A"},"00:00:00","2010-05-06"]
[null,null,null,null,null,null,null,{"$error":"#N/A"},"00:00:00","2010-05-06"]
[null,null,null,null,null,null,null,{"$error":"#N/A"},"00:00:00","2010-05-06"]
[null,null,null,null,null,null,null,{"$error":"#N/A"},"00:00:00","2010-05-06"]
[null,null,null,null,null,null,null,{"$error":"#N/A"},"00:00:00","2010-05-06"]
[null,null,null,null,null,null,null,{"$error":"#N/A"},"00:00:00","2010-05-06"]
[null,null,null,null,null,null,null,{"$error":"#N/A"},"00:00:00","2010-05-06"]
[null,null,null,null,null,null,null,{"$error":"#N/A"},"00:00:00","2010-05-06"]
[null,null,null,null,null,null,null,{"$error":"#N/A"},"00:00:00","2010-05-06"]
[null,null,null,null,null,null,null,{"$error":"#N/A"},"00:00:00","2010-05-06"]
[null,null,null,null,null,null,null,{"$error":"#N/A"},"00:00:00","2010-05-06"]
[null,null,null,null,null,null,null,{"$error":"#N/A"},"00:00:00","2010-05-06"]
[null,null,null,null,null,null,null,{"$error":"#N/A"},"00:00:00","2010-05-06"]
[null,null,null,null,null,null,null,{"$error":"#N/A"},"00:00:00","2010-05-06"]
[null,null,null,null,null,null,null,{"$error":"#N/A"},"00:00:00","2010-05-06"]
[null,null,null,null,null,null,null,{"$error":"#N/A"},"00:00:00","2010-05-06"]
[null,null,null,null,null,null,null,{"$error":"#N/A"},"00:00:00","2010-05-06"]
[null,null,null,null,null,null,null,{"$error":"#N/A"},"00:00:00","2010-05-06"]
[null,null,null,null,null,null,null,{"$error":"#N/A"},"00:00:00","2010-05-06"]
[null,null,null,null,null,null,null,{"$error":"#N/A"},"00:00:00","2010-05-06"]
[null,null,null,null,null,null,null,{"$f":"VLOOKUP(A130,SKUdetail,2,FALSE)","v":{"$error":"#N/A"}},"00:00:00","2010-05-06"]
[null,null,null,null,null,null,null,{"$error":"#N/A"},"00:00:00","2010-05-06"]
[null,null,null,null,null,null,null,{"$error":"#N/A"},"00:00:00","2010-05-06"]
[null,null,null,null,null,null,null,{"$error":"#N/A"},"00:00:00","2010-05-06"]
[null,null,null,null,null,null,null,{"$error":"#N/A"},"00:00:00","2010-05-06"]
[null,null,null,null,null,null,null,{"$error":"#N/A"},"00:00:00","2010-05-06"]
[null,null,null,null,null,null,null,{"$error":"#N/A"},"00:00:00","2010-05-06"]
[null,null,null,null,null,null,null,{"$error":"#N/A"},"00:00:00","2010-05-06"]
[null,null,null,null,null,null,null,{"$error":"#N/A"},"00:00:00","2010-05-06"]
[null,null,null,null,null,null,null,{"$error":"#N/A"},"00:00:00","2010-05-06"]
[null,null,null,null,null,null,null,{"$error":"#N/A"},"00:00:00","2010-05-06"]
[null,null,null,null,null,null,null,{"$error":"#N/A"},"00:00:00","2010-05-06"]
[null,null,null,null,null,null,null,{"$error":"#N/A"},"00:00:00","2010-05-06"]
[null,null,null,null,null,null,null,{"$error":"#N/A"},"00:00:00","2010-05-06"]
[null,null,null,null,null,null,null,{"$error":"#N/A"},"00:00:00","2010-05-06"]
[null,null,null,null,null,null,null,{"$error":"#N/A"},"00:00:00","2010-05-06"]
[null,null,null,null,null,null,null,{"$error":"#N/A"},"00:00:00","2010-05-06"]
[null,null,null,null,null,null,null,{"$error":"#N/A"},"00:00:00","2010-05-06"]
[null,null,null,null,null,null,null,{"$error":"#N/A"},"00:00:00","2010-05-06"]
[null,null,null,null,null,null,null,{"$error":"#N/A"},"00:00:00","2010-05-06"]
[null,null,null,null,null,null,null,{"$error":"#N/A"},"00:00:00","2010-05-06"]
[null,null,null,null,null,null,null,{"$error":"#N/A"},"00:00:00","2010-05-06"]
[null,null,null,null,null,null,null,{"$error":"#N/A"},"00:00:00","2010-05-06"]
[null,null,null,null,null,null,null,{"$error":"#N/A"},"00:00:00","2010-05-06"]
[null,null,null,null,null,null,null,{"$error":"#N/A"},"00:00:00","2010-05-06"]
[null,null,null,null,null,null,null,{"$error":"#N/A"},"00:00:00","2010-05-06"]
[null,null,null,null,null,null,null,{"$error":"#N/A"},"00:00:00","2010-05-06"]
[null,null,null,null,null,null,null,{"$error":"#N/A"},{"$f":"INT(F157)","v":"00:00:00"},"2010-05-06"]
[null,null,null,null,null,null,null,{"$error":"#N/A"},"00:00:00","2010-05-06"]
[null,null,null,null,null,null,null,{"$error":"#N/A"},"00:00:00","2010-05-06"]
[null,null,null,null,null,null,null,{"$error":"#N/A"},"00:00:00","2010-05-06"]
[null,null,null,null,null,null,null,{"$error":"#N/A"},"00:00:00","2010-05-06"]
[null,null,null,null,null,null,null,{"$error":"#N/A"},"00:00:00","2010-05-06"]
[null,null,null,null,null,null,null,{"$error":"#N/A"},"00:00:00","2010-05-06"]
[null,null,null,null,null,null,null,{"$error":"#N/A"},"00:00:00","2010-05-06"]
[null,null,null,null,null,null,null,{"$error":"#N/A"},"00:00:00","2010-05-06"]
[null,null,null,null,null,null,null,{"$error":"#N/A"},"00:00:00","2010-05-06"]
[null,null,null,null,null,null,null,{"$error":"#N/A"},"00:00:00","2010-05-06"]
[null,null,null,null,null,null,null,{"$error":"#N/A"},"00:00:00","2010-05-06"]
[null,null,null,null,null,null,null,{"$error":"#N/A"},"00:00:00","2010-05-06"]
[null,null,null,null,null,null,null,{"$error":"#N/A"},"00:00:00","2010-05-06"]
[null,null,null,null,null,null,null,{"$error":"#N/A"},"00:00:00","2010-05-06"]
[null,null,null,null,null,null,null,{"$error":"#N/A"},"00:00:00","2010-05-06"]
[null,null,null,null,null,null,null,{"$error":"#N/A"},"00:00:00","2010-05-06"]
[null,null,null,null,null,null,null,{"$error":"#N/A"},"00:00:00","2010-05-06"]
[null,null,null,null,null,null,null,{"$error":"#N/A"},"00:00:00","2010-05-06"]
[null,null,null,null,null,null,null,{"$error":"#N/A"},"00:00:00","2010-05-06"]
[null,null,null,null,null,null,null,{"$error":"#N/A"},"00:00:00","2010-05-06"]
[null,null,null,null,null,null,null,{"$error":"#N/A"},"00:00:00","2010-05-06"]
[null,null,null,null,null,null,null,{"$error":"#N/A"},"00:00:00","2010-05-06"]
[null,null,null,null,null,null,null,{"$error":"#N/A"},"00:00:00","2010-05-06"]
[null,null,null,null,null,null,null,{"$error":"#N/A"},"00:00:00","2010-05-06"]
[null,null,null,null,null,null,null,{"$error":"#N/A"},"00:00:00","2010-05-06"]
[null,null,null,null,null,null,null,{"$error":"#N/A"},"00:00:00","2010-05-06"]
[null,null,null,null,null,null,null,{"$error":"#N/A"},"00:00:00","2010-05-06"]
[null,null,null,null,null,null,null,{"$error":"#N/A"},"00:00:00","2010-05-06"]
[null,null,null,null,null,null,null,{"$error":"#N/A"},"00:00:00","2010-05-06"]
[null,null,null,null,null,null,null,{"$error":"#N/A"},"00:00:00","2010-05-06"]
[null,null,null,null,null,null,null,{"$error":"#N/A"},"00:00:00","2010-05-06"]
[null,null,null,null,null,null,null,{"$error":"#N/A"},"00:00:00","2010-05-06"]
[null,null,null,null,null,null,null,{"$error":"#N/A"},"00:00:00","2010-05-06"]
[null,null,null,null,null,null,null,{"$error":"#N/A"},"00:00:00","2010-05-06"]
[null,null,null,null,null,null,null,{"$error":"#N/A"},"00:00:00","2010-05-06"]
[null,null,null,null,null,null,null,{"$error":"#N/A"},"00:00:00","2010-05-06"]
[null,null,null,null,null,null,null,{"$f":"VLOOKUP(A194,SKUdetail,2,FALSE)","v":{"$error":"#N/A"}},"00:00:00","2010-05-06"]
[null,null,null,null,null,null,null,{"$error":"#N/A"},"00:00:00","2010-05-06"]
[null,null,null,null,null,null,null,{"$error":"#N/A"},"00:00:00","2010-05-06"]
[null,null,null,null,null,null,null,{"$error":"#N/A"},"00:00:00","2010-05-06"]
[null,null,null,null,null,null,null,{"$error":"#N/A"},"00:00:00","2010-05-06"]
[null,null,null,null,null,null,null,{"$error":"#N/A"},"00:00:00","2010-05-06"]
[null,null,null,null,null,null,null,{"$error":"#N/A"},"00:00:00","2010-05-06"]
[null,null,null,null,null,null,null,{"$error":"#N/A"},"00:00:00","2010-05-06"]
[null,null,null,null,null,null,null,{"$error":"#N/A"},"00:00:00","2010-05-06"]
[null,null,null,null,null,null,null,{"$error":"#N/A"},"00:00:00","2010-05-06"]
[null,null,null,null,null,null,null,{"$error":"#N/A"},"00:00:00","2010-05-06"]
[null,null,null,null,null,null,null,{"$error":"#N/A"},"00:00:00","2010-05-06"]
[null,null,null,null,null,null,null,{"$error":"#N/A"},"00:00:00","2010-05-06"]
[null,null,null,null,null,null,null,{"$error":"#N/A"},"00:00:00","2010-05-06"]
[null,null,null,null,null,null,null,{"$error":"#N/A"},"00:00:00","2010-05-06"]
[null,null,null,null,null,null,null,{"$error":"#N/A"},"00:00:00","2010-05-06"]
[null,null,null,null,null,null,null,{"$error":"#N/A"},"00:00:00","2010-05-06"]
[null,null,null,null,null,null,null,{"$error":"#N/A"},"00:00:00","2010-05-06"]
[null,null,null,null,null,null,null,{"$error":"#N/A"},"00:00:00","2010-05-06"]
[null,null,null,null,null,null,null,{"$error":"#N/A"},"00:00:00","2010-05-06"]
[null,null,null,null,null,null,null,{"$error":"#N/A"},"00:00:00","2010-05-06"]
[null,null,null,null,null,null,null,{"$error":"#N/A"},"00:00:00","2010-05-06"]
[null,null,null,null,null,null,null,{"$error":"#N/A"},"00:00:00","2010-05-06"]
[null,null,null,null,null,null,null,{"$error":"#N/A"},"00:00:00","2010-05-06"]
[null,null,null,null,null,null,null,{"$error":"#N/A"},"00:00:00","2010-05-06"]
[null,null,null,null,null,null,null,{"$error":"#N/A"},"00:00:00","2010-05-06"]
[null,null,null,null,null,null,null,{"$error":"#N/A"},"00:00:00","2010-05-06"]
[null,null,null,null,null,null,null,{"$error":"#N/A"},{"$f":"INT(F221)","v":"00:00:00"},"2010-05-06"]
[null,null,null,null,null,null,null,{"$error":"#N/A"},"00:00:00","2010-05-06"]
[null,null,null,null,null,null,null,{"$error":"#N/A"},"00:00:00","2010-05-06"]
[null,null,null,null,null,null,null,{"$error":"#N/A"},"00:00:00","2010-05-06"]
[null,null,null,null,null,null,null,{"$error":"#N/A"},"00:00:00","2010-05-06"]
[null,null,null,null,null,null,null,{"$error":"#N/A"},"00:00:00","2010-05-06"]
[null,null,null,null,null,null,null,{"$error":"#N/A"},"00:00:00","2010-05-06"]
[null,null,null,null,null,null,null,{"$error":"#N/A"},"00:00:00","2010-05-06"]
[null,null,null,null,null,null,null,{"$error":"#N/A"},"00:00:00","2010-05-06"]
[null,null,null,null,null,null,null,{"$error":"#N/A"},"00:00:00","2010-05-06"]
[null,null,null,null,null,null,null,{"$error":"#N/A"},"00:00:00","2010-05-06"]
[null,null,null,null,null,null,null,{"$error":"#N/A"},"00:00:00","2010-05-06"]
[null,null,null,null,null,null,null,{"$error":"#N/A"},"00:00:00","2010-05-06"]
[null,null,null,null,null,null,null,{"$error":"#N/A"},"00:00:00","2010-05-06"]
[null,null,null,null,null,null,null,{"$error":"#N/A"},"00:00:00","2010-05-06"]
[null,null,null,null,null,null,null,{"$error":"#N/A"},"00:00:00","2010-05-06"]
[null,null,null,null,null,null,null,{"$error":"#N/A"},"00:00:00","2010-05-06"]
[null,null,null,null,null,null,null,{"$error":"#N/A"},"00:00:00","2010-05-06"]
[null,null,null,null,null,null,null,{"$error":"#N/A"},"00:00:00","2010-05-06"]
[null,null,null,null,null,null,null,{"$error":"#N/A"},"00:00:00","2010-05-06"]
[null,null,null,null,null,null,null,{"$error":"#N/A"},"00:00:00","2010-05-06"]
[null,null,null,null,null,null,null,{"$error":"#N/A"},"00:00:00","2010-05-06"]
[null,null,null,null,null,null,null,{"$error":"#N/A"},"00:00:00","2010-05-06"]
[null,null,null,null,null,null,null,{"$error":"#N/A"},"00:00:00","2010-05-06"]
[null,null,null,null,null,null,null,{"$error":"#N/A"},"00:00:00","2010-05-06"]
[null,null,null,null,null,null,null,{"$error":"#N/A"},"00:00:00","2010-05-06"]
[null,null,null,null,null,null,null,{"$error":"#N/A"},"00:00:00","2010-05-06"]
[null,null,null,null,null,null,null,{"$error":"#N/A"},"00:00:00","2010-05-06"]
[null,null,null,null,null,null,null,{"$error":"#N/A"},"00:00:00","2010-05-06"]
[null,null,null,null,null,null,null,{"$error":"#N/A"},"00:00:00","2010-05-06"]
[null,null,null,null,null,null,null,{"$error":"#N/A"},"00:00:00","2010-05-06"]
[null,null,null,null,null,null,null,{"$error":"#N/A"},"00:00:00","2010-05-06"]
[null,null,null,null,null,null,null,{"$error":"#N/A"},"00:00:00","2010-05-06"]
[null,null,null,null,null,null,null,{"$error":"#N/A"},"00:00:00","2010-05-06"]
[null,null,null,null,null,null,null,{"$error":"#N/A"},"00:00:00","2010-05-06"]
[null,null,null,null,null,null,null,{"$error":"#N/A"},"00:00:00","2010-05-06"]
[null,null,null,null,null,null,null,{"$error":"#N/A"},"00:00:00","2010-05-06"]
[null,null,null,null,null,null,null,{"$f":"VLOOKUP(A258,SKUdetail,2,FALSE)","v":{"$error":"#N/A"}},"00:00:00","2010-05-06"]
[null,null,null,null,null,null,null,{"$error":"#N/A"},"00:00:00","2010-05-06"]
[null,null,null,null,null,null,null,{"$error":"#N/A"},"00:00:00","2010-05-06"]
[null,null,null,null,null,null,null,{"$error":"#N/A"},"00:00:00","2010-05-06"]
[null,null,null,null,null,null,null,{"$error":"#N/A"},"00:00:00","2010-05-06"]
[null,null,null,null,null,null,null,{"$error":"#N/A"},"00:00:00","2010-05-06"]
[null,null,null,null,null,null,null,{"$error":"#N/A"},"00:00:00","2010-05-06"]
[null,null,null,null,null,null,null,{"$error":"#N/A"},"00:00:00","2010-05-06"]
[null,null,null,null,null,null,null,{"$error":"#N/A"},"00:00:00","2010-05-06"]
[null,null,null,null,null,null,null,{"$error":"#N/A"},"00:00:00","2010-05-06"]
[null,null,null,null,null,null,null,{"$error":"#N/A"},"00:00:00","2010-05-06"]
[null,null,null,null,null,null,null,{"$error":"#N/A"},"00:00:00","2010-05-06"]
[null,null,null,null,null,null,null,{"$error":"#N/A"},"00:00:00","2010-05-06"]
[null,null,null,null,null,null,null,{"$error":"#N/A"},"00:00:00","2010-05-06"]
[null,null,null,null,null,null,null,{"$error":"#N/A"},"00:00:00","2010-05-06"]
[null,null,null,null,null,null,null,{"$error":"#N/A"},"00:00:00","2010-05-06"]
[null,null,null,null,null,null,null,{"$error":"#N/A"},"00:00:00","2010-05-06"]
[null,null,null,null,null,null,null,{"$error":"#N/A"},"00:00:00","2010-05-06"]
[null,null,null,null,null,null,null,{"$error":"#N/A"},"00:00:00","2010-05-06"]
[null,null,null,null,null,null,null,{"$error":"#N/A"},"00:00:00","2010-05-06"]
[null,null,null,null,null,null,null,{"$error":"#N/A"},"00:00:00","2010-05-06"]
[null,null,null,null,null,null,null,{"$error":"#N/A"},"00:00:00","2010-05-06"]
[null,null,null,null,null,null,null,{"$error":"#N/A"},"00:00:00","2010-05-06"]
[null,null,null,null,null,null,null,{"$error":"#N/A"},"00:00:00","2010-05-06"]
[null,null,null,null,null,null,null,{"$error":"#N/A"},"00:00:00","2010-05-06"]
[null,null,null,null,null,null,null,{"$error":"#N/A"},"00:00:00","2010-05-06"]
[null,null,null,null,null,null,null,{"$error":"#N/A"},"00:00:00","2010-05-06"]
[null,null,null,null,null,null,null,{"$error":"#N/A"},{"$f":"INT(F285)","v":"00:00:00"},"2010-05-06"]
[null,null,null,null,null,null,null,{"$error":"#N/A"},"00:00:00","2010-05-06"]
[null,null,null,null,null,null,null,{"$error":"#N/A"},"00:00:00","2010-05-06"]
[null,null,null,null,null,null,null,{"$error":"#N/A"},"00:00:00","2010-05-06"]
[null,null,null,null,null,null,null,{"$error":"#N/A"},"00:00:00","2010-05-06"]
[null,null,null,null,null,null,null,{"$error":"#N/A"},"00:00:00","2010-05-06"]
[null,null,null,null,null,null,null,{"$error":"#N/A"},"00:00:00","2010-05-06"]
[null,null,null,null,null,null,null,{"$error":"#N/A"},"00:00:00","2010-05-06"]
[null,null,null,null,null,null,null,{"$error":"#N/A"},"00:00:00","2010-05-06"]
[null,null,null,null,null,null,null,{"$error":"#N/A"},"00:00:00","2010-05-06"]
[null,null,null,null,null,null,null,{"$error":"#N/A"},"00:00:00","2010-05-06"]
[null,null,null,null,null,null,null,{"$error":"#N/A"},"00:00:00","2010-05-06"]
[null,null,null,null,null,null,null,{"$error":"#N/A"},"00:00:00","2010-05-06"]
[null,null,null,null,null,null,null,{"$error":"#N/A"},"00:00:00","2010-05-06"]
[null,null,null,null,null,null,null,{"$error":"#N/A"},"00:00:00","2010-05-06"]
[null,null,null,null,null,null,null,{"$error":"#N/A"},"00:00:00","2010-05-06"]
[null,null,null,null,null,null,null,{"$error":"#N/A"},"00:00:00","2010-05-06"]
[null,null,null,null,null,null,null,{"$error":"#N/A"},"00:00:00","2010-05-06"]
[null,null,null,null,null,null,null,{"$error":"#N/A"},"00:00:00","2010-05-06"]
[null,null,null,null,null,null,null,{"$error":"#N/A"},"00:00:00","2010-05-06"]
[null,null,null,null,null,null,null,{"$error":"#N/A"},"00:00:00","2010-05-06"]
[null,null,null,null,null,null,null,{"$error":"#N/A"},"00:00:00","2010-05-06"]
[null,null,null,null,null,null,null,{"$error":"#N/A"},"00:00:00","2010-05-06"]
[null,null,null,null,null,null,null,{"$error":"#N/A"},"00:00:00","2010-05-06"]
[null,null,null,null,null,null,null,{"$error":"#N/A"},"00:00:00","2010-05-06"]
[null,null,null,null,null,null,null,{"$error":"#N/A"},"00:00:00","2010-05-06"]
[null,null,null,null,null,null,null,{"$error":"#N/A"},"00:00:00","2010-05-06"]
[null,null,null,null,null,null,null,{"$error":"#N/A"},"00:00:00","2010-05-06"]
[null,null,null,null,null,null,null,{"$error":"#N/A"},"00:00:00","2010-05-06"]
[null,null,null,null,null,null,null,{"$error":"#N/A"},"00:00:00","2010-05-06"]
[null,null,null,null,null,null,null,{"$error":"#N/A"},"00:00:00","2010-05-06"]
[null,null,null,null,null,null,null,{"$error":"#N/A"},"00:00:00","2010-05-06"]
[null,null,null,null,null,null,null,{"$error":"#N/A"},"00:00:00","2010-05-06"]
[null,null,null,null,null,null,null,{"$error":"#N/A"},"00:00:00","2010-05-06"]
[null,null,null,null,null,null,null,{"$error":"#N/A"},"00:00:00","2010-05-06"]
[null,null,null,null,null,null,null,{"$error":"#N/A"},"00:00:00","2010-05-06"]
[null,null,null,null,null,null,null,{"$error":"#N/A"},"00:00:00","2010-05-06"]
[null,null,null,null,null,null,null,{"$f":"VLOOKUP(A322,SKUdetail,2,FALSE)","v":{"$error":"#N/A"}},"00:00:00","2010-05-06"]
[null,null,null,null,null,null,null,{"$error":"#N/A"},"00:00:00","2010-05-06"]
[null,null,null,null,null,null,null,{"$error":"#N/A"},"00:00:00","2010-05-06"]
[null,null,null,null,null,null,null,{"$error":"#N/A"},"00:00:00","2010-05-06"]
[null,null,null,null,null,null,null,{"$error":"#N/A"},"00:00:00","2010-05-06"]
[null,null,null,null,null,null,null,{"$error":"#N/A"},"00:00:00","2010-05-06"]
[null,null,null,null,null,null,null,{"$error":"#N/A"},"00:00:00","2010-05-06"]
[null,null,null,null,null,null,null,{"$error":"#N/A"},"00:00:00","2010-05-06"]
[null,null,null,null,null,null,null,{"$error":"#N/A"},"00:00:00","2010-05-06"]
[null,null,null,null,null,null,null,{"$error":"#N/A"},"00:00:00","2010-05-06"]
[null,null,null,null,null,null,null,{"$error":"#N/A"},"00:00:00","2010-05-06"]
[null,null,null,null,null,null,null,{"$error":"#N/A"},"00:00:00","2010-05-06"]
[null,null,null,null,null,null,null,{"$error":"#N/A"},"00:00:00","2010-05-06"]
[null,null,null,null,null,null,null,{"$error":"#N/A"},"00:00:00","2010-05-06"]
[null,null,null,null,null,null,null,{"$error":"#N/A"},"00:00:00","2010-05-06"]
[null,null,null,null,null,null,null,{"$error":"#N/A"},"00:00:00","2010-05-06"]
[null,null,null,null,null,null,null,{"$error":"#N/A"},"00:00:00","2010-05-06"]
[null,null,null,null,null,null,null,{"$error":"#N/A"},"00:00:00","2010-05-06"]
[null,null,null,null,null,null,null,{"$error":"#N/A"},"00:00:00","2010-05-06"]
[null,null,null,null,null,null,null,{"$error":"#N/A"},"00:00:00","2010-05-06"]
[null,null,null,null,null,null,null,{"$error":"#N/A"},"00:00:00","2010-05-06"]
[null,null,null,null,null,null,null,{"$error":"#N/A"},"00:00:00","2010-05-06"]
[null,null,null,null,null,null,null,{"$error":"#N/A"},"00:00:00","2010-05-06"]
[null,null,null,null,null,null,null,{"$error":"#N/A"},"00:00:00","2010-05-06"]
[null,null,null,null,null,null,null,{"$error":"#N/A"},"00:00:00","2010-05-06"]
[null,null,null,null,null,null,null,{"$error":"#N/A"},"00:00:00","2010-05-06"]
[null,null,null,null,null,null,null,{"$error":"#N/A"},"00:00:00","2010-05-06"]
[null,null,null,null,null,null,null,{"$error":"#N/A"},{"$f":"INT(F349)","v":"00:00:00"},"2010-05-06"]
[null,null,null,null,null,null,null,{"$error":"#N/A"},"00:00:00","2010-05-06"]
[null,null,null,null,null,null,null,{"$error":"#N/A"},"00:00:00","2010-05-06"]
[null,null,null,null,null,null,null,{"$error":"#N/A"},"00:00:00","2010-05-06"]
[null,null,null,null,null,null,null,{"$error":"#N/A"},"00:00:00","2010-05-06"]
[null,null,null,null,null,null,null,{"$error":"#N/A"},"00:00:00","2010-05-06"]
[null,null,null,null,null,null,null,{"$error":"#N/A"},"00:00:00","2010-05-06"]
[null,null,null,null,null,null,null,{"$error":"#N/A"},"00:00:00","2010-05-06"]
[null,null,null,null,null,null,null,{"$error":"#N/A"},"00:00:00","2010-05-06"]
[null,null,null,null,null,null,null,{"$error":"#N/A"},"00:00:00","2010-05-06"]
[null,null,null,null,null,null,null,{"$error":"#N/A"},"00:00:00","2010-05-06"]
[null,null,null,null,null,null,null,{"$error":"#N/A"},"00:00:00","2010-05-06"]
[null,null,null,null,null,null,null,{"$error":"#N/A"},"00:00:00","2010-05-06"]
[null,null,null,null,null,null,null,{"$error":"#N/A"},"00:00:00","2010-05-06"]
[null,null,null,null,null,null,null,{"$error":"#N/A"},"00:00:00","2010-05-06"]
[null,null,null,null,null,null,null,{"$error":"#N/A"},"00:00:00","2010-05-06"]
[null,null,null,null,null,null,null,{"$error":"#N/A"},"00:00:00","2010-05-06"]
[null,null,null,null,null,null,null,{"$error":"#N/A"},"00:00:00","2010-05-06"]
[null,null,null,null,null,null,null,{"$error":"#N/A"},"00:00:00","2010-05-06"]
[null,null,null,null,null,null,null,{"$error":"#N/A"},"00:00:00","2010-05-06"]
[null,null,null,null,null,null,null,{"$error":"#N/A"},"00:00:00","2010-05-06"]
[null,null,null,null,null,null,null,{"$error":"#N/A"},"00:00:00","2010-05-06"]
[null,null,null,null,null,null,null,{"$error":"#N/A"},"00:00:00","2010-05-06"]
[null,null,null,null,null,null,null,{"$error":"#N/A"},"00:00:00","2010-05-06"]
[null,null,null,null,null,null,null,{"$error":"#N/A"},"00:00:00","2010-05-06"]
[null,null,null,null,null,null,null,{"$error":"#N/A"},"00:00:00","2010-05-06"]
[null,null,null,null,null,null,null,{"$error":"#N/A"},"00:00:00","2010-05-06"]
[null,null,null,null,null,null,null,{"$error":"#N/A"},"00:00:00","2010-05-06"]
[null,null,null,null,null,null,null,{"$error":"#N/A"},"00:00:00","2010-05-06"]
[null,null,null,null,null,null,null,{"$error":"#N/A"},"00:00:00","2010-05-06"]
[null,null,null,null,null,null,null,{"$error":"#N/A"},"00:00:00","2010-05-06"]
[null,null,null,null,null,null,null,{"$error":"#N/A"},"00:00:00","2010-05-06"]
[null,null,null,null,null,null,null,{"$error":"#N/A"},"00:00:00","2010-05-06"]
[null,null,null,null,null,null,null,{"$error":"#N/A"},"00:00:00","2010-05-06"]
[null,null,null,null,null,null,null,{"$error":"#N/A"},"00:00:00","2010-05-06"]
[null,null,null,null,null,null,null,{"$error":"#N/A"},"00:00:00","2010-05-06"]
[null,null,null,null,null,null,null,{"$error":"#N/A"},"00:00:00","2010-05-06"]
[null,null,null,null,null,null,null,{"$f":"VLOOKUP(A386,SKUdetail,2,FALSE)","v":{"$error":"#N/A"}},"00:00:00","2010-05-06"]
[null,null,null,null,null,null,null,{"$error":"#N/A"},"00:00:00","2010-05-06"]
[null,null,null,null,null,null,null,{"$error":"#N/A"},"00:00:00","2010-05-06"]
[null,null,null,null,null,null,null,{"$error":"#N/A"},"00:00:00","2010-05-06"]
[null,null,null,null,null,null,null,{"$error":"#N/A"},"00:00:00","2010-05-06"]
[null,null,null,null,null,null,null,{"$error":"#N/A"},"00:00:00","2010-05-06"]
[null,null,null,null,null,null,null,{"$error":"#N/A"},"00:00:00","2010-05-06"]
[null,null,null,null,null,null,null,{"$error":"#N/A"},"00:00:00","2010-05-06"]
[null,null,null,null,null,null,null,{"$error":"#N/A"},"00:00:00","2010-05-06"]
[null,null,null,null,null,null,null,{"$error":"#N/A"},"00:00:00","2010-05-06"]
[null,null,null,null,null,null,null,{"$error":"#N/A"},"00:00:00","2010-05-06"]
[null,null,null,null,null,null,null,{"$error":"#N/A"},"00:00:00","2010-05-06"]
[null,null,null,null,null,null,null,{"$error":"#N/A"},"00:00:00","2010-05-06"]
[null,null,null,null,null,null,null,{"$error":"#N/A"},"00:00:00","2010-05-06"]
[null,null,null,null,null,null,null,{"$error":"#N/A"},"00:00:00","2010-05-06"]
[null,null,null,null,null,null,null,{"$error":"#N/A"},"00:00:00","2010-05-06"]
[null,null,null,null,null,null,null,{"$error":"#N/A"},"00:00:00","2010-05-06"]
[null,null,null,null,null,null,null,{"$error":"#N/A"},"00:00:00","2010-05-06"]
[null,null,null,null,null,null,null,{"$error":"#N/A"},"00:00:00","2010-05-06"]
[null,null,null,null,null,null,null,{"$error":"#N/A"},"00:00:00","2010-05-06"]
[null,null,null,null,null,null,null,{"$error":"#N/A"},"00:00:00","2010-05-06"]
[null,null,null,null,null,null,null,{"$error":"#N/A"},"00:00:00","2010-05-06"]
[null,null,null,null,null,null,null,{"$error":"#N/A"},"00:00:00","2010-05-06"]
[null,null,null,null,null,null,null,{"$error":"#N/A"},"00:00:00","2010-05-06"]
[null,null,null,null,null,null,null,{"$error":"#N/A"},"00:00:00","2010-05-06"]
[null,null,null,null,null,null,null,{"$error":"#N/A"},"00:00:00","2010-05-06"]
[null,null,null,null,null,null,null,{"$error":"#N/A"},"00:00:00","2010-05-06"]
[null,null,null,null,null,null,null,{"$error":"#N/A"},{"$f":"INT(F413)","v":"00:00:00"},"2010-05-06"]
[null,null,null,null,null,null,null,{"$error":"#N/A"},"00:00:00","2010-05-06"]
[null,null,null,null,null,null,null,{"$error":"#N/A"},"00:00:00","2010-05-06"]
[null,null,null,null,null,null,null,{"$error":"#N/A"},"00:00:00","2010-05-06"]
[null,null,null,null,null,null,null,{"$error":"#N/A"},"00:00:00","2010-05-06"]
[null,null,null,null,null,null,null,{"$error":"#N/A"},"00:00:00","2010-05-06"]
[null,null,null,null,null,null,null,{"$error":"#N/A"},"00:00:00","2010-05-06"]
[null,null,null,null,null,null,null,{"$error":"#N/A"},"00:00:00","2010-05-06"]
[null,null,null,null,null,null,null,{"$error":"#N/A"},"00:00:00","2010-05-06"]
[null,null,null,null,null,null,null,{"$error":"#N/A"},"00:00:00","2010-05-06"]
[null,null,null,null,null,null,null,{"$error":"#N/A"},"00:00:00","2010-05-06"]
[null,null,null,null,null,null,null,{"$error":"#N/A"},"00:00:00","2010-05-06"]
[null,null,null,null,null,null,null,{"$error":"#N/A"},"00:00:00","2010-05-06"]
[null,null,null,null,null,null,null,{"$error":"#N/A"},"00:00:00","2010-05-06"]
[null,null,null,null,null,null,null,{"$error":"#N/A"},"00:00:00","2010-05-06"]
[null,null,null,null,null,null,null,{"$error":"#N/A"},"00:00:00","2010-05-06"]
[null,null,null,null,null,null,null,{"$error":"#N/A"},"00:00:00","2010-05-06"]
[null,null,null,null,null,null,null,{"$error":"#N/A"},"00:00:00","2010-05-06"]
[null,null,null,null,null,null,null,{"$error":"#N/A"},"00:00:00","2010-05-06"]
[null,null,null,null,null,null,null,{"$error":"#N/A"},"00:00:00","2010-05-06"]
[null,null,null,null,null,null,null,{"$error":"#N/A"},"00:00:00","2010-05-06"]
[null,null,null,null,null,null,null,{"$error":"#N/A"},"00:00:00","2010-05-06"]
[null,null,null,null,null,null,null,{"$error":"#N/A"},"00:00:00","2010-05-06"]
[null,null,null,null,null,null,null,{"$error":"#N/A"},"00:00:00","2010-05-06"]
[null,null,null,null,null,null,null,{"$error":"#N/A"},"00:00:00","2010-05-06"]
[null,null,null,null,null,null,null,{"$error":"#N/A"},"00:00:00","2010-05-06"]
[null,null,null,null,null,null,null,{"$error":"#N/A"},"00:00:00","2010-05-06"]
[null,null,null,null,null,null,null,{"$error":"#N/A"},"00:00:00","2010-05-06"]
[null,null,null,null,null,null,null,{"$error":"#N/A"},"00:00:00","2010-05-06"]
[null,null,null,null,null,null,null,{"$error":"#N/A"},"00:00:00","2010-05-06"]
[null,null,null,null,null,null,null,{"$error":"#N/A"},"00:00:00","2010-05-06"]
[null,null,null,null,null,null,null,{"$error":"#N/A"},"00:00:00","2010-05-06"]
[null,null,null,null,null,null,null,{"$error":"#N/A"},"00:00:00","2010-05-06"]
[null,null,null,null,null,null,null,{"$error":"#N/A"},"00:00:00","2010-05-06"]
[null,null,null,null,null,null,null,{"$error":"#N/A"},"00:00:00","2010-05-06"]
[null,null,null,null,null,null,null,{"$error":"#N/A"},"00:00:00","2010-05-06"]
[null,null,null,null,null,null,null,{"$error":"#N/A"},"00:00:00","2010-05-06"]
[null,null,null,null,null,null,null,{"$f":"VLOOKUP(A450,SKUdetail,2,FALSE)","v":{"$error":"#N/A"}},"00:00:00","2010-05-06"]
[null,null,null,null,null,null,null,{"$error":"#N/A"},"00:00:00","2010-05-06"]
[null,null,null,null,null,null,null,{"$error":"#N/A"},"00:00:00","2010-05-06"]
[null,null,null,null,null,null,null,{"$error":"#N/A"},"00:00:00","2010-05-06"]
[null,null,null,null,null,null,null,{"$error":"#N/A"},"00:00:00","2010-05-06"]
[null,null,null,null,null,null,null,{"$error":"#N/A"},"00:00:00","2010-05-06"]
[null,null,null,null,null,null,null,{"$error":"#N/A"},"00:00:00","2010-05-06"]
[null,null,null,null,null,null,null,{"$error":"#N/A"},"00:00:00","2010-05-06"]
[null,null,null,null,null,null,null,{"$error":"#N/A"},"00:00:00","2010-05-06"]
[null,null,null,null,null,null,null,{"$error":"#N/A"},"00:00:00","2010-05-06"]
[null,null,null,null,null,null,null,{"$error":"#N/A"},"00:00:00","2010-05-06"]
[null,null,null,null,null,null,null,{"$error":"#N/A"},"00:00:00","2010-05-06"]
[null,null,null,null,null,null,null,{"$error":"#N/A"},"00:00:00","2010-05-06"]
[null,null,null,null,null,null,null,{"$error":"#N/A"},"00:00:00","2010-05-06"]
[null,null,null,null,null,null,null,{"$error":"#N/A"},"00:00:00","2010-05-06"]
[null,null,null,null,null,null,null,{"$error":"#N/A"},"00:00:00","2010-05-06"]
[null,null,null,null,null,null,null,{"$error":"#N/A"},"00:00:00","2010-05-06"]
[null,null,null,null,null,null,null,{"$error":"#N/A"},"00:00:00","2010-05-06"]
[null,null,null,null,null,null,null,{"$error":"#N/A"},"00:00:00","2010-05-06"]
[null,null,null,null,null,null,null,{"$error":"#N/A"},"00:00:00","2010-05-06"]
[null,null,null,null,null,null,null,{"$error":"#N/A"},"00:00:00","2010-05-06"]
[null,null,null,null,null,null,null,{"$error":"#N/A"},"00:00:00","2010-05-06"]
[null,null,null,null,null,null,null,{"$error":"#N/A"},"00:00:00","2010-05-06"]
[null,null,null,null,null,null,null,{"$error":"#N/A"},"00:00:00","2010-05-06"]
[null,null,null,null,null,null,null,{"$error":"#N/A"},"00:00:00","2010-05-06"]
[null,null,null,null,null,null,null,{"$error":"#N/A"},"00:00:00","2010-05-06"]
[null,null,null,null,null,null,null,{"$error":"#N/A"},"00:00:00","2010-05-06"]
[null,null,null,null,null,null,null,{"$error":"#N/A"},{"$f":"INT(F477)","v":"00:00:00"},"2010-05-06"]
[null,null,null,null,null,null,null,{"$error":"#N/A"},"00:00:00","2010-05-06"]
[null,null,null,null,null,null,null,{"$error":"#N/A"},"00:00:00","2010-05-06"]
[null,null,null,null,null,null,null,{"$error":"#N/A"},"00:00:00","2010-05-06"]
[null,null,null,null,null,null,null,{"$error":"#N/A"},"00:00:00","2010-05-06"]
[null,null,null,null,null,null,null,{"$error":"#N/A"},"00:00:00","2010-05-06"]
[null,null,null,null,null,null,null,{"$error":"#N/A"},"00:00:00","2010-05-06"]
[null,null,null,null,null,null,null,{"$error":"#N/A"},"00:00:00","2010-05-06"]
[null,null,null,null,null,null,null,{"$error":"#N/A"},"00:00:00","2010-05-06"]
[null,null,null,null,null,null,null,{"$error":"#N/A"},"00:00:00","2010-05-06"]
[null,null,null,null,null,null,null,{"$error":"#N/A"},"00:00:00","2010-05-06"]

{"sheet":"A Chart","index":2,"n_rows":279,"n_cols":7,"rows_kept":279,"cut":false,"hidden":false,"merged":[]}
["Date","Carlos: Where did I park","Proximity: GPS-activated alarm",null,null,"Quote date",{"$f":"TODAY()-1","v":"2010-05-06"}]
["2010-01-22",{"$f":"COUNTIFS(JustDates,'A Chart'!$A2,JustProducts,'A Chart'!B$1)","v":0},{"$f":"COUNTIFS(JustDates,'A Chart'!$A2,JustProducts,'A Chart'!C$1)","v":0}]
[{"$f":"MIN(A2+1,Quote_date)","v":"2010-01-23"},{"$f":"IF($A2=Quote_date,B2,COUNTIFS(JustDates,'A Chart'!$A3,JustProducts,'A Chart'!B$1)+B2)","v":0},{"$f":"IF($A2=Quote_date,C2,COUNTIFS(JustDates,'A Chart'!$A3,JustProducts,'A Chart'!C$1)+C2)","v":0}]
["2010-01-24",{"$f":"IF($A3=Quote_date,B3,COUNTIFS(JustDates,'A Chart'!$A4,JustProducts,'A Chart'!B$1)+B3)","v":0},{"$f":"IF($A3=Quote_date,C3,COUNTIFS(JustDates,'A Chart'!$A4,JustProducts,'A Chart'!C$1)+C3)","v":0}]
["2010-01-25",{"$f":"IF($A4=Quote_date,B4,COUNTIFS(JustDates,'A Chart'!$A5,JustProducts,'A Chart'!B$1)+B4)","v":0},{"$f":"IF($A4=Quote_date,C4,COUNTIFS(JustDates,'A Chart'!$A5,JustProducts,'A Chart'!C$1)+C4)","v":0}]
["2010-01-26",{"$f":"IF($A5=Quote_date,B5,COUNTIFS(JustDates,'A Chart'!$A6,JustProducts,'A Chart'!B$1)+B5)","v":0},{"$f":"IF($A5=Quote_date,C5,COUNTIFS(JustDates,'A Chart'!$A6,JustProducts,'A Chart'!C$1)+C5)","v":0}]
["2010-01-27",{"$f":"IF($A6=Quote_date,B6,COUNTIFS(JustDates,'A Chart'!$A7,JustProducts,'A Chart'!B$1)+B6)","v":0},{"$f":"IF($A6=Quote_date,C6,COUNTIFS(JustDates,'A Chart'!$A7,JustProducts,'A Chart'!C$1)+C6)","v":0}]
["2010-01-28",{"$f":"IF($A7=Quote_date,B7,COUNTIFS(JustDates,'A Chart'!$A8,JustProducts,'A Chart'!B$1)+B7)","v":0},{"$f":"IF($A7=Quote_date,C7,COUNTIFS(JustDates,'A Chart'!$A8,JustProducts,'A Chart'!C$1)+C7)","v":0}]
["2010-01-29",{"$f":"IF($A8=Quote_date,B8,COUNTIFS(JustDates,'A Chart'!$A9,JustProducts,'A Chart'!B$1)+B8)","v":0},{"$f":"IF($A8=Quote_date,C8,COUNTIFS(JustDates,'A Chart'!$A9,JustProducts,'A Chart'!C$1)+C8)","v":0}]
["2010-01-30",{"$f":"IF($A9=Quote_date,B9,COUNTIFS(JustDates,'A Chart'!$A10,JustProducts,'A Chart'!B$1)+B9)","v":0},{"$f":"IF($A9=Quote_date,C9,COUNTIFS(JustDates,'A Chart'!$A10,JustProducts,'A Chart'!C$1)+C9)","v":0}]
["2010-01-31",{"$f":"IF($A10=Quote_date,B10,COUNTIFS(JustDates,'A Chart'!$A11,JustProducts,'A Chart'!B$1)+B10)","v":0},{"$f":"IF($A10=Quote_date,C10,COUNTIFS(JustDates,'A Chart'!$A11,JustProducts,'A Chart'!C$1)+C10)","v":0}]
["2010-02-01",{"$f":"IF($A11=Quote_date,B11,COUNTIFS(JustDates,'A Chart'!$A12,JustProducts,'A Chart'!B$1)+B11)","v":0},{"$f":"IF($A11=Quote_date,C11,COUNTIFS(JustDates,'A Chart'!$A12,JustProducts,'A Chart'!C$1)+C11)","v":0}]
["2010-02-02",{"$f":"IF($A12=Quote_date,B12,COUNTIFS(JustDates,'A Chart'!$A13,JustProducts,'A Chart'!B$1)+B12)","v":0},{"$f":"IF($A12=Quote_date,C12,COUNTIFS(JustDates,'A Chart'!$A13,JustProducts,'A Chart'!C$1)+C12)","v":0}]
["2010-02-03",{"$f":"IF($A13=Quote_date,B13,COUNTIFS(JustDates,'A Chart'!$A14,JustProducts,'A Chart'!B$1)+B13)","v":0},{"$f":"IF($A13=Quote_date,C13,COUNTIFS(JustDates,'A Chart'!$A14,JustProducts,'A Chart'!C$1)+C13)","v":0}]
["2010-02-04",{"$f":"IF($A14=Quote_date,B14,COUNTIFS(JustDates,'A Chart'!$A15,JustProducts,'A Chart'!B$1)+B14)","v":0},{"$f":"IF($A14=Quote_date,C14,COUNTIFS(JustDates,'A Chart'!$A15,JustProducts,'A Chart'!C$1)+C14)","v":0}]
["2010-02-05",{"$f":"IF($A15=Quote_date,B15,COUNTIFS(JustDates,'A Chart'!$A16,JustProducts,'A Chart'!B$1)+B15)","v":0},{"$f":"IF($A15=Quote_date,C15,COUNTIFS(JustDates,'A Chart'!$A16,JustProducts,'A Chart'!C$1)+C15)","v":0}]
["2010-02-06",{"$f":"IF($A16=Quote_date,B16,COUNTIFS(JustDates,'A Chart'!$A17,JustProducts,'A Chart'!B$1)+B16)","v":0},{"$f":"IF($A16=Quote_date,C16,COUNTIFS(JustDates,'A Chart'!$A17,JustProducts,'A Chart'!C$1)+C16)","v":0}]
["2010-02-07",{"$f":"IF($A17=Quote_date,B17,COUNTIFS(JustDates,'A Chart'!$A18,JustProducts,'A Chart'!B$1)+B17)","v":0},{"$f":"IF($A17=Quote_date,C17,COUNTIFS(JustDates,'A Chart'!$A18,JustProducts,'A Chart'!C$1)+C17)","v":0}]
["2010-02-08",{"$f":"IF($A18=Quote_date,B18,COUNTIFS(JustDates,'A Chart'!$A19,JustProducts,'A Chart'!B$1)+B18)","v":0},{"$f":"IF($A18=Quote_date,C18,COUNTIFS(JustDates,'A Chart'!$A19,JustProducts,'A Chart'!C$1)+C18)","v":0}]
["2010-02-09",{"$f":"IF($A19=Quote_date,B19,COUNTIFS(JustDates,'A Chart'!$A20,JustProducts,'A Chart'!B$1)+B19)","v":0},{"$f":"IF($A19=Quote_date,C19,COUNTIFS(JustDates,'A Chart'!$A20,JustProducts,'A Chart'!C$1)+C19)","v":0}]
["2010-02-10",{"$f":"IF($A20=Quote_date,B20,COUNTIFS(JustDates,'A Chart'!$A21,JustProducts,'A Chart'!B$1)+B20)","v":0},{"$f":"IF($A20=Quote_date,C20,COUNTIFS(JustDates,'A Chart'!$A21,JustProducts,'A Chart'!C$1)+C20)","v":0}]
["2010-02-11",{"$f":"IF($A21=Quote_date,B21,COUNTIFS(JustDates,'A Chart'!$A22,JustProducts,'A Chart'!B$1)+B21)","v":0},{"$f":"IF($A21=Quote_date,C21,COUNTIFS(JustDates,'A Chart'!$A22,JustProducts,'A Chart'!C$1)+C21)","v":0}]
["2010-02-12",{"$f":"IF($A22=Quote_date,B22,COUNTIFS(JustDates,'A Chart'!$A23,JustProducts,'A Chart'!B$1)+B22)","v":0},{"$f":"IF($A22=Quote_date,C22,COUNTIFS(JustDates,'A Chart'!$A23,JustProducts,'A Chart'!C$1)+C22)","v":0}]
["2010-02-13",{"$f":"IF($A23=Quote_date,B23,COUNTIFS(JustDates,'A Chart'!$A24,JustProducts,'A Chart'!B$1)+B23)","v":0},{"$f":"IF($A23=Quote_date,C23,COUNTIFS(JustDates,'A Chart'!$A24,JustProducts,'A Chart'!C$1)+C23)","v":0}]
["2010-02-14",{"$f":"IF($A24=Quote_date,B24,COUNTIFS(JustDates,'A Chart'!$A25,JustProducts,'A Chart'!B$1)+B24)","v":0},{"$f":"IF($A24=Quote_date,C24,COUNTIFS(JustDates,'A Chart'!$A25,JustProducts,'A Chart'!C$1)+C24)","v":0}]
["2010-02-15",{"$f":"IF($A25=Quote_date,B25,COUNTIFS(JustDates,'A Chart'!$A26,JustProducts,'A Chart'!B$1)+B25)","v":0},{"$f":"IF($A25=Quote_date,C25,COUNTIFS(JustDates,'A Chart'!$A26,JustProducts,'A Chart'!C$1)+C25)","v":0}]
["2010-02-16",{"$f":"IF($A26=Quote_date,B26,COUNTIFS(JustDates,'A Chart'!$A27,JustProducts,'A Chart'!B$1)+B26)","v":0},{"$f":"IF($A26=Quote_date,C26,COUNTIFS(JustDates,'A Chart'!$A27,JustProducts,'A Chart'!C$1)+C26)","v":0}]
["2010-02-17",{"$f":"IF($A27=Quote_date,B27,COUNTIFS(JustDates,'A Chart'!$A28,JustProducts,'A Chart'!B$1)+B27)","v":0},{"$f":"IF($A27=Quote_date,C27,COUNTIFS(JustDates,'A Chart'!$A28,JustProducts,'A Chart'!C$1)+C27)","v":0}]
["2010-02-18",{"$f":"IF($A28=Quote_date,B28,COUNTIFS(JustDates,'A Chart'!$A29,JustProducts,'A Chart'!B$1)+B28)","v":0},{"$f":"IF($A28=Quote_date,C28,COUNTIFS(JustDates,'A Chart'!$A29,JustProducts,'A Chart'!C$1)+C28)","v":0}]
["2010-02-19",{"$f":"IF($A29=Quote_date,B29,COUNTIFS(JustDates,'A Chart'!$A30,JustProducts,'A Chart'!B$1)+B29)","v":0},{"$f":"IF($A29=Quote_date,C29,COUNTIFS(JustDates,'A Chart'!$A30,JustProducts,'A Chart'!C$1)+C29)","v":0}]
["2010-02-20",{"$f":"IF($A30=Quote_date,B30,COUNTIFS(JustDates,'A Chart'!$A31,JustProducts,'A Chart'!B$1)+B30)","v":0},{"$f":"IF($A30=Quote_date,C30,COUNTIFS(JustDates,'A Chart'!$A31,JustProducts,'A Chart'!C$1)+C30)","v":0}]
["2010-02-21",{"$f":"IF($A31=Quote_date,B31,COUNTIFS(JustDates,'A Chart'!$A32,JustProducts,'A Chart'!B$1)+B31)","v":0},{"$f":"IF($A31=Quote_date,C31,COUNTIFS(JustDates,'A Chart'!$A32,JustProducts,'A Chart'!C$1)+C31)","v":0}]
["2010-02-22",{"$f":"IF($A32=Quote_date,B32,COUNTIFS(JustDates,'A Chart'!$A33,JustProducts,'A Chart'!B$1)+B32)","v":0},{"$f":"IF($A32=Quote_date,C32,COUNTIFS(JustDates,'A Chart'!$A33,JustProducts,'A Chart'!C$1)+C32)","v":0}]
["2010-02-23",{"$f":"IF($A33=Quote_date,B33,COUNTIFS(JustDates,'A Chart'!$A34,JustProducts,'A Chart'!B$1)+B33)","v":0},{"$f":"IF($A33=Quote_date,C33,COUNTIFS(JustDates,'A Chart'!$A34,JustProducts,'A Chart'!C$1)+C33)","v":0}]
[{"$f":"MIN(A34+1,Quote_date)","v":"2010-02-24"},{"$f":"IF($A34=Quote_date,B34,COUNTIFS(JustDates,'A Chart'!$A35,JustProducts,'A Chart'!B$1)+B34)","v":0},{"$f":"IF($A34=Quote_date,C34,COUNTIFS(JustDates,'A Chart'!$A35,JustProducts,'A Chart'!C$1)+C34)","v":0}]
["2010-02-25",{"$f":"IF($A35=Quote_date,B35,COUNTIFS(JustDates,'A Chart'!$A36,JustProducts,'A Chart'!B$1)+B35)","v":0},{"$f":"IF($A35=Quote_date,C35,COUNTIFS(JustDates,'A Chart'!$A36,JustProducts,'A Chart'!C$1)+C35)","v":0}]
["2010-02-26",{"$f":"IF($A36=Quote_date,B36,COUNTIFS(JustDates,'A Chart'!$A37,JustProducts,'A Chart'!B$1)+B36)","v":0},{"$f":"IF($A36=Quote_date,C36,COUNTIFS(JustDates,'A Chart'!$A37,JustProducts,'A Chart'!C$1)+C36)","v":0}]
["2010-02-27",{"$f":"IF($A37=Quote_date,B37,COUNTIFS(JustDates,'A Chart'!$A38,JustProducts,'A Chart'!B$1)+B37)","v":0},{"$f":"IF($A37=Quote_date,C37,COUNTIFS(JustDates,'A Chart'!$A38,JustProducts,'A Chart'!C$1)+C37)","v":0}]
["2010-02-28",{"$f":"IF($A38=Quote_date,B38,COUNTIFS(JustDates,'A Chart'!$A39,JustProducts,'A Chart'!B$1)+B38)","v":0},{"$f":"IF($A38=Quote_date,C38,COUNTIFS(JustDates,'A Chart'!$A39,JustProducts,'A Chart'!C$1)+C38)","v":0}]
["2010-03-01",{"$f":"IF($A39=Quote_date,B39,COUNTIFS(JustDates,'A Chart'!$A40,JustProducts,'A Chart'!B$1)+B39)","v":0},{"$f":"IF($A39=Quote_date,C39,COUNTIFS(JustDates,'A Chart'!$A40,JustProducts,'A Chart'!C$1)+C39)","v":0}]
["2010-03-02",{"$f":"IF($A40=Quote_date,B40,COUNTIFS(JustDates,'A Chart'!$A41,JustProducts,'A Chart'!B$1)+B40)","v":0},{"$f":"IF($A40=Quote_date,C40,COUNTIFS(JustDates,'A Chart'!$A41,JustProducts,'A Chart'!C$1)+C40)","v":0}]
["2010-03-03",{"$f":"IF($A41=Quote_date,B41,COUNTIFS(JustDates,'A Chart'!$A42,JustProducts,'A Chart'!B$1)+B41)","v":0},{"$f":"IF($A41=Quote_date,C41,COUNTIFS(JustDates,'A Chart'!$A42,JustProducts,'A Chart'!C$1)+C41)","v":0}]
["2010-03-04",{"$f":"IF($A42=Quote_date,B42,COUNTIFS(JustDates,'A Chart'!$A43,JustProducts,'A Chart'!B$1)+B42)","v":0},{"$f":"IF($A42=Quote_date,C42,COUNTIFS(JustDates,'A Chart'!$A43,JustProducts,'A Chart'!C$1)+C42)","v":0}]
["2010-03-05",{"$f":"IF($A43=Quote_date,B43,COUNTIFS(JustDates,'A Chart'!$A44,JustProducts,'A Chart'!B$1)+B43)","v":0},{"$f":"IF($A43=Quote_date,C43,COUNTIFS(JustDates,'A Chart'!$A44,JustProducts,'A Chart'!C$1)+C43)","v":0}]
["2010-03-06",{"$f":"IF($A44=Quote_date,B44,COUNTIFS(JustDates,'A Chart'!$A45,JustProducts,'A Chart'!B$1)+B44)","v":0},{"$f":"IF($A44=Quote_date,C44,COUNTIFS(JustDates,'A Chart'!$A45,JustProducts,'A Chart'!C$1)+C44)","v":0}]
["2010-03-07",{"$f":"IF($A45=Quote_date,B45,COUNTIFS(JustDates,'A Chart'!$A46,JustProducts,'A Chart'!B$1)+B45)","v":0},{"$f":"IF($A45=Quote_date,C45,COUNTIFS(JustDates,'A Chart'!$A46,JustProducts,'A Chart'!C$1)+C45)","v":0}]
["2010-03-08",{"$f":"IF($A46=Quote_date,B46,COUNTIFS(JustDates,'A Chart'!$A47,JustProducts,'A Chart'!B$1)+B46)","v":0},{"$f":"IF($A46=Quote_date,C46,COUNTIFS(JustDates,'A Chart'!$A47,JustProducts,'A Chart'!C$1)+C46)","v":0}]
["2010-03-09",{"$f":"IF($A47=Quote_date,B47,COUNTIFS(JustDates,'A Chart'!$A48,JustProducts,'A Chart'!B$1)+B47)","v":0},{"$f":"IF($A47=Quote_date,C47,COUNTIFS(JustDates,'A Chart'!$A48,JustProducts,'A Chart'!C$1)+C47)","v":0}]
["2010-03-10",{"$f":"IF($A48=Quote_date,B48,COUNTIFS(JustDates,'A Chart'!$A49,JustProducts,'A Chart'!B$1)+B48)","v":0},{"$f":"IF($A48=Quote_date,C48,COUNTIFS(JustDates,'A Chart'!$A49,JustProducts,'A Chart'!C$1)+C48)","v":0}]
["2010-03-11",{"$f":"IF($A49=Quote_date,B49,COUNTIFS(JustDates,'A Chart'!$A50,JustProducts,'A Chart'!B$1)+B49)","v":0},{"$f":"IF($A49=Quote_date,C49,COUNTIFS(JustDates,'A Chart'!$A50,JustProducts,'A Chart'!C$1)+C49)","v":0}]
["2010-03-12",{"$f":"IF($A50=Quote_date,B50,COUNTIFS(JustDates,'A Chart'!$A51,JustProducts,'A Chart'!B$1)+B50)","v":0},{"$f":"IF($A50=Quote_date,C50,COUNTIFS(JustDates,'A Chart'!$A51,JustProducts,'A Chart'!C$1)+C50)","v":0}]
["2010-03-13",{"$f":"IF($A51=Quote_date,B51,COUNTIFS(JustDates,'A Chart'!$A52,JustProducts,'A Chart'!B$1)+B51)","v":0},{"$f":"IF($A51=Quote_date,C51,COUNTIFS(JustDates,'A Chart'!$A52,JustProducts,'A Chart'!C$1)+C51)","v":0}]
["2010-03-14",{"$f":"IF($A52=Quote_date,B52,COUNTIFS(JustDates,'A Chart'!$A53,JustProducts,'A Chart'!B$1)+B52)","v":0},{"$f":"IF($A52=Quote_date,C52,COUNTIFS(JustDates,'A Chart'!$A53,JustProducts,'A Chart'!C$1)+C52)","v":0}]
["2010-03-15",{"$f":"IF($A53=Quote_date,B53,COUNTIFS(JustDates,'A Chart'!$A54,JustProducts,'A Chart'!B$1)+B53)","v":0},{"$f":"IF($A53=Quote_date,C53,COUNTIFS(JustDates,'A Chart'!$A54,JustProducts,'A Chart'!C$1)+C53)","v":0}]
["2010-03-16",{"$f":"IF($A54=Quote_date,B54,COUNTIFS(JustDates,'A Chart'!$A55,JustProducts,'A Chart'!B$1)+B54)","v":0},{"$f":"IF($A54=Quote_date,C54,COUNTIFS(JustDates,'A Chart'!$A55,JustProducts,'A Chart'!C$1)+C54)","v":0}]
["2010-03-17",{"$f":"IF($A55=Quote_date,B55,COUNTIFS(JustDates,'A Chart'!$A56,JustProducts,'A Chart'!B$1)+B55)","v":0},{"$f":"IF($A55=Quote_date,C55,COUNTIFS(JustDates,'A Chart'!$A56,JustProducts,'A Chart'!C$1)+C55)","v":0}]
["2010-03-18",{"$f":"IF($A56=Quote_date,B56,COUNTIFS(JustDates,'A Chart'!$A57,JustProducts,'A Chart'!B$1)+B56)","v":0},{"$f":"IF($A56=Quote_date,C56,COUNTIFS(JustDates,'A Chart'!$A57,JustProducts,'A Chart'!C$1)+C56)","v":0}]
["2010-03-19",{"$f":"IF($A57=Quote_date,B57,COUNTIFS(JustDates,'A Chart'!$A58,JustProducts,'A Chart'!B$1)+B57)","v":0},{"$f":"IF($A57=Quote_date,C57,COUNTIFS(JustDates,'A Chart'!$A58,JustProducts,'A Chart'!C$1)+C57)","v":0}]
["2010-03-20",{"$f":"IF($A58=Quote_date,B58,COUNTIFS(JustDates,'A Chart'!$A59,JustProducts,'A Chart'!B$1)+B58)","v":0},{"$f":"IF($A58=Quote_date,C58,COUNTIFS(JustDates,'A Chart'!$A59,JustProducts,'A Chart'!C$1)+C58)","v":0}]
["2010-03-21",{"$f":"IF($A59=Quote_date,B59,COUNTIFS(JustDates,'A Chart'!$A60,JustProducts,'A Chart'!B$1)+B59)","v":0},{"$f":"IF($A59=Quote_date,C59,COUNTIFS(JustDates,'A Chart'!$A60,JustProducts,'A Chart'!C$1)+C59)","v":0}]
["2010-03-22",{"$f":"IF($A60=Quote_date,B60,COUNTIFS(JustDates,'A Chart'!$A61,JustProducts,'A Chart'!B$1)+B60)","v":0},{"$f":"IF($A60=Quote_date,C60,COUNTIFS(JustDates,'A Chart'!$A61,JustProducts,'A Chart'!C$1)+C60)","v":0}]
["2010-03-23",{"$f":"IF($A61=Quote_date,B61,COUNTIFS(JustDates,'A Chart'!$A62,JustProducts,'A Chart'!B$1)+B61)","v":0},{"$f":"IF($A61=Quote_date,C61,COUNTIFS(JustDates,'A Chart'!$A62,JustProducts,'A Chart'!C$1)+C61)","v":0}]
["2010-03-24",{"$f":"IF($A62=Quote_date,B62,COUNTIFS(JustDates,'A Chart'!$A63,JustProducts,'A Chart'!B$1)+B62)","v":0},{"$f":"IF($A62=Quote_date,C62,COUNTIFS(JustDates,'A Chart'!$A63,JustProducts,'A Chart'!C$1)+C62)","v":0}]
["2010-03-25",{"$f":"IF($A63=Quote_date,B63,COUNTIFS(JustDates,'A Chart'!$A64,JustProducts,'A Chart'!B$1)+B63)","v":0},{"$f":"IF($A63=Quote_date,C63,COUNTIFS(JustDates,'A Chart'!$A64,JustProducts,'A Chart'!C$1)+C63)","v":0}]
["2010-03-26",{"$f":"IF($A64=Quote_date,B64,COUNTIFS(JustDates,'A Chart'!$A65,JustProducts,'A Chart'!B$1)+B64)","v":0},{"$f":"IF($A64=Quote_date,C64,COUNTIFS(JustDates,'A Chart'!$A65,JustProducts,'A Chart'!C$1)+C64)","v":0}]
["2010-03-27",{"$f":"IF($A65=Quote_date,B65,COUNTIFS(JustDates,'A Chart'!$A66,JustProducts,'A Chart'!B$1)+B65)","v":0},{"$f":"IF($A65=Quote_date,C65,COUNTIFS(JustDates,'A Chart'!$A66,JustProducts,'A Chart'!C$1)+C65)","v":0}]
[{"$f":"MIN(A66+1,Quote_date)","v":"2010-03-28"},{"$f":"IF($A66=Quote_date,B66,COUNTIFS(JustDates,'A Chart'!$A67,JustProducts,'A Chart'!B$1)+B66)","v":0},{"$f":"IF($A66=Quote_date,C66,COUNTIFS(JustDates,'A Chart'!$A67,JustProducts,'A Chart'!C$1)+C66)","v":0}]
["2010-03-29",{"$f":"IF($A67=Quote_date,B67,COUNTIFS(JustDates,'A Chart'!$A68,JustProducts,'A Chart'!B$1)+B67)","v":0},{"$f":"IF($A67=Quote_date,C67,COUNTIFS(JustDates,'A Chart'!$A68,JustProducts,'A Chart'!C$1)+C67)","v":0}]
["2010-03-30",{"$f":"IF($A68=Quote_date,B68,COUNTIFS(JustDates,'A Chart'!$A69,JustProducts,'A Chart'!B$1)+B68)","v":0},{"$f":"IF($A68=Quote_date,C68,COUNTIFS(JustDates,'A Chart'!$A69,JustProducts,'A Chart'!C$1)+C68)","v":0}]
["2010-03-31",{"$f":"IF($A69=Quote_date,B69,COUNTIFS(JustDates,'A Chart'!$A70,JustProducts,'A Chart'!B$1)+B69)","v":0},{"$f":"IF($A69=Quote_date,C69,COUNTIFS(JustDates,'A Chart'!$A70,JustProducts,'A Chart'!C$1)+C69)","v":0}]
["2010-04-01",{"$f":"IF($A70=Quote_date,B70,COUNTIFS(JustDates,'A Chart'!$A71,JustProducts,'A Chart'!B$1)+B70)","v":0},{"$f":"IF($A70=Quote_date,C70,COUNTIFS(JustDates,'A Chart'!$A71,JustProducts,'A Chart'!C$1)+C70)","v":0}]
["2010-04-02",{"$f":"IF($A71=Quote_date,B71,COUNTIFS(JustDates,'A Chart'!$A72,JustProducts,'A Chart'!B$1)+B71)","v":0},{"$f":"IF($A71=Quote_date,C71,COUNTIFS(JustDates,'A Chart'!$A72,JustProducts,'A Chart'!C$1)+C71)","v":0}]
["2010-04-03",{"$f":"IF($A72=Quote_date,B72,COUNTIFS(JustDates,'A Chart'!$A73,JustProducts,'A Chart'!B$1)+B72)","v":0},{"$f":"IF($A72=Quote_date,C72,COUNTIFS(JustDates,'A Chart'!$A73,JustProducts,'A Chart'!C$1)+C72)","v":0}]
["2010-04-04",{"$f":"IF($A73=Quote_date,B73,COUNTIFS(JustDates,'A Chart'!$A74,JustProducts,'A Chart'!B$1)+B73)","v":0},{"$f":"IF($A73=Quote_date,C73,COUNTIFS(JustDates,'A Chart'!$A74,JustProducts,'A Chart'!C$1)+C73)","v":0}]
["2010-04-05",{"$f":"IF($A74=Quote_date,B74,COUNTIFS(JustDates,'A Chart'!$A75,JustProducts,'A Chart'!B$1)+B74)","v":0},{"$f":"IF($A74=Quote_date,C74,COUNTIFS(JustDates,'A Chart'!$A75,JustProducts,'A Chart'!C$1)+C74)","v":0}]
["2010-04-06",{"$f":"IF($A75=Quote_date,B75,COUNTIFS(JustDates,'A Chart'!$A76,JustProducts,'A Chart'!B$1)+B75)","v":0},{"$f":"IF($A75=Quote_date,C75,COUNTIFS(JustDates,'A Chart'!$A76,JustProducts,'A Chart'!C$1)+C75)","v":0}]
["2010-04-07",{"$f":"IF($A76=Quote_date,B76,COUNTIFS(JustDates,'A Chart'!$A77,JustProducts,'A Chart'!B$1)+B76)","v":0},{"$f":"IF($A76=Quote_date,C76,COUNTIFS(JustDates,'A Chart'!$A77,JustProducts,'A Chart'!C$1)+C76)","v":0}]
["2010-04-08",{"$f":"IF($A77=Quote_date,B77,COUNTIFS(JustDates,'A Chart'!$A78,JustProducts,'A Chart'!B$1)+B77)","v":0},{"$f":"IF($A77=Quote_date,C77,COUNTIFS(JustDates,'A Chart'!$A78,JustProducts,'A Chart'!C$1)+C77)","v":0}]
["2010-04-09",{"$f":"IF($A78=Quote_date,B78,COUNTIFS(JustDates,'A Chart'!$A79,JustProducts,'A Chart'!B$1)+B78)","v":0},{"$f":"IF($A78=Quote_date,C78,COUNTIFS(JustDates,'A Chart'!$A79,JustProducts,'A Chart'!C$1)+C78)","v":0}]
["2010-04-10",{"$f":"IF($A79=Quote_date,B79,COUNTIFS(JustDates,'A Chart'!$A80,JustProducts,'A Chart'!B$1)+B79)","v":0},{"$f":"IF($A79=Quote_date,C79,COUNTIFS(JustDates,'A Chart'!$A80,JustProducts,'A Chart'!C$1)+C79)","v":0}]
["2010-04-11",{"$f":"IF($A80=Quote_date,B80,COUNTIFS(JustDates,'A Chart'!$A81,JustProducts,'A Chart'!B$1)+B80)","v":0},{"$f":"IF($A80=Quote_date,C80,COUNTIFS(JustDates,'A Chart'!$A81,JustProducts,'A Chart'!C$1)+C80)","v":0}]
["2010-04-12",{"$f":"IF($A81=Quote_date,B81,COUNTIFS(JustDates,'A Chart'!$A82,JustProducts,'A Chart'!B$1)+B81)","v":0},{"$f":"IF($A81=Quote_date,C81,COUNTIFS(JustDates,'A Chart'!$A82,JustProducts,'A Chart'!C$1)+C81)","v":0}]
["2010-04-13",{"$f":"IF($A82=Quote_date,B82,COUNTIFS(JustDates,'A Chart'!$A83,JustProducts,'A Chart'!B$1)+B82)","v":0},{"$f":"IF($A82=Quote_date,C82,COUNTIFS(JustDates,'A Chart'!$A83,JustProducts,'A Chart'!C$1)+C82)","v":0}]
["2010-04-14",{"$f":"IF($A83=Quote_date,B83,COUNTIFS(JustDates,'A Chart'!$A84,JustProducts,'A Chart'!B$1)+B83)","v":0},{"$f":"IF($A83=Quote_date,C83,COUNTIFS(JustDates,'A Chart'!$A84,JustProducts,'A Chart'!C$1)+C83)","v":0}]
["2010-04-15",{"$f":"IF($A84=Quote_date,B84,COUNTIFS(JustDates,'A Chart'!$A85,JustProducts,'A Chart'!B$1)+B84)","v":0},{"$f":"IF($A84=Quote_date,C84,COUNTIFS(JustDates,'A Chart'!$A85,JustProducts,'A Chart'!C$1)+C84)","v":0}]
["2010-04-16",{"$f":"IF($A85=Quote_date,B85,COUNTIFS(JustDates,'A Chart'!$A86,JustProducts,'A Chart'!B$1)+B85)","v":0},{"$f":"IF($A85=Quote_date,C85,COUNTIFS(JustDates,'A Chart'!$A86,JustProducts,'A Chart'!C$1)+C85)","v":0}]
["2010-04-17",{"$f":"IF($A86=Quote_date,B86,COUNTIFS(JustDates,'A Chart'!$A87,JustProducts,'A Chart'!B$1)+B86)","v":0},{"$f":"IF($A86=Quote_date,C86,COUNTIFS(JustDates,'A Chart'!$A87,JustProducts,'A Chart'!C$1)+C86)","v":0}]
["2010-04-18",{"$f":"IF($A87=Quote_date,B87,COUNTIFS(JustDates,'A Chart'!$A88,JustProducts,'A Chart'!B$1)+B87)","v":0},{"$f":"IF($A87=Quote_date,C87,COUNTIFS(JustDates,'A Chart'!$A88,JustProducts,'A Chart'!C$1)+C87)","v":0}]
["2010-04-19",{"$f":"IF($A88=Quote_date,B88,COUNTIFS(JustDates,'A Chart'!$A89,JustProducts,'A Chart'!B$1)+B88)","v":0},{"$f":"IF($A88=Quote_date,C88,COUNTIFS(JustDates,'A Chart'!$A89,JustProducts,'A Chart'!C$1)+C88)","v":0}]
["2010-04-20",{"$f":"IF($A89=Quote_date,B89,COUNTIFS(JustDates,'A Chart'!$A90,JustProducts,'A Chart'!B$1)+B89)","v":0},{"$f":"IF($A89=Quote_date,C89,COUNTIFS(JustDates,'A Chart'!$A90,JustProducts,'A Chart'!C$1)+C89)","v":0}]
["2010-04-21",{"$f":"IF($A90=Quote_date,B90,COUNTIFS(JustDates,'A Chart'!$A91,JustProducts,'A Chart'!B$1)+B90)","v":0},{"$f":"IF($A90=Quote_date,C90,COUNTIFS(JustDates,'A Chart'!$A91,JustProducts,'A Chart'!C$1)+C90)","v":0}]
["2010-04-22",{"$f":"IF($A91=Quote_date,B91,COUNTIFS(JustDates,'A Chart'!$A92,JustProducts,'A Chart'!B$1)+B91)","v":0},{"$f":"IF($A91=Quote_date,C91,COUNTIFS(JustDates,'A Chart'!$A92,JustProducts,'A Chart'!C$1)+C91)","v":0}]
["2010-04-23",{"$f":"IF($A92=Quote_date,B92,COUNTIFS(JustDates,'A Chart'!$A93,JustProducts,'A Chart'!B$1)+B92)","v":0},{"$f":"IF($A92=Quote_date,C92,COUNTIFS(JustDates,'A Chart'!$A93,JustProducts,'A Chart'!C$1)+C92)","v":0}]
["2010-04-24",{"$f":"IF($A93=Quote_date,B93,COUNTIFS(JustDates,'A Chart'!$A94,JustProducts,'A Chart'!B$1)+B93)","v":0},{"$f":"IF($A93=Quote_date,C93,COUNTIFS(JustDates,'A Chart'!$A94,JustProducts,'A Chart'!C$1)+C93)","v":0}]
["2010-04-25",{"$f":"IF($A94=Quote_date,B94,COUNTIFS(JustDates,'A Chart'!$A95,JustProducts,'A Chart'!B$1)+B94)","v":0},{"$f":"IF($A94=Quote_date,C94,COUNTIFS(JustDates,'A Chart'!$A95,JustProducts,'A Chart'!C$1)+C94)","v":0}]
["2010-04-26",{"$f":"IF($A95=Quote_date,B95,COUNTIFS(JustDates,'A Chart'!$A96,JustProducts,'A Chart'!B$1)+B95)","v":0},{"$f":"IF($A95=Quote_date,C95,COUNTIFS(JustDates,'A Chart'!$A96,JustProducts,'A Chart'!C$1)+C95)","v":0}]
["2010-04-27",{"$f":"IF($A96=Quote_date,B96,COUNTIFS(JustDates,'A Chart'!$A97,JustProducts,'A Chart'!B$1)+B96)","v":0},{"$f":"IF($A96=Quote_date,C96,COUNTIFS(JustDates,'A Chart'!$A97,JustProducts,'A Chart'!C$1)+C96)","v":0}]
["2010-04-28",{"$f":"IF($A97=Quote_date,B97,COUNTIFS(JustDates,'A Chart'!$A98,JustProducts,'A Chart'!B$1)+B97)","v":0},{"$f":"IF($A97=Quote_date,C97,COUNTIFS(JustDates,'A Chart'!$A98,JustProducts,'A Chart'!C$1)+C97)","v":0}]
[{"$f":"MIN(A98+1,Quote_date)","v":"2010-04-29"},{"$f":"IF($A98=Quote_date,B98,COUNTIFS(JustDates,'A Chart'!$A99,JustProducts,'A Chart'!B$1)+B98)","v":0},{"$f":"IF($A98=Quote_date,C98,COUNTIFS(JustDates,'A Chart'!$A99,JustProducts,'A Chart'!C$1)+C98)","v":0}]
["2010-04-30",{"$f":"IF($A99=Quote_date,B99,COUNTIFS(JustDates,'A Chart'!$A100,JustProducts,'A Chart'!B$1)+B99)","v":0},{"$f":"IF($A99=Quote_date,C99,COUNTIFS(JustDates,'A Chart'!$A100,JustProducts,'A Chart'!C$1)+C99)","v":0}]
["2010-05-01",{"$f":"IF($A100=Quote_date,B100,COUNTIFS(JustDates,'A Chart'!$A101,JustProducts,'A Chart'!B$1)+B100)","v":0},{"$f":"IF($A100=Quote_date,C100,COUNTIFS(JustDates,'A Chart'!$A101,JustProducts,'A Chart'!C$1)+C100)","v":0}]
["2010-05-02",{"$f":"IF($A101=Quote_date,B101,COUNTIFS(JustDates,'A Chart'!$A102,JustProducts,'A Chart'!B$1)+B101)","v":0},{"$f":"IF($A101=Quote_date,C101,COUNTIFS(JustDates,'A Chart'!$A102,JustProducts,'A Chart'!C$1)+C101)","v":0}]
["2010-05-03",{"$f":"IF($A102=Quote_date,B102,COUNTIFS(JustDates,'A Chart'!$A103,JustProducts,'A Chart'!B$1)+B102)","v":0},{"$f":"IF($A102=Quote_date,C102,COUNTIFS(JustDates,'A Chart'!$A103,JustProducts,'A Chart'!C$1)+C102)","v":0}]
["2010-05-04",{"$f":"IF($A103=Quote_date,B103,COUNTIFS(JustDates,'A Chart'!$A104,JustProducts,'A Chart'!B$1)+B103)","v":0},{"$f":"IF($A103=Quote_date,C103,COUNTIFS(JustDates,'A Chart'!$A104,JustProducts,'A Chart'!C$1)+C103)","v":0}]
["2010-05-05",{"$f":"IF($A104=Quote_date,B104,COUNTIFS(JustDates,'A Chart'!$A105,JustProducts,'A Chart'!B$1)+B104)","v":0},{"$f":"IF($A104=Quote_date,C104,COUNTIFS(JustDates,'A Chart'!$A105,JustProducts,'A Chart'!C$1)+C104)","v":0}]
["2010-05-06",{"$f":"IF($A105=Quote_date,B105,COUNTIFS(JustDates,'A Chart'!$A106,JustProducts,'A Chart'!B$1)+B105)","v":0},{"$f":"IF($A105=Quote_date,C105,COUNTIFS(JustDates,'A Chart'!$A106,JustProducts,'A Chart'!C$1)+C105)","v":0}]
[{"$f":"MIN(A106+1,Quote_date)","v":"2010-05-06"},{"$f":"IF($A106=Quote_date,B106,COUNTIFS(JustDates,'A Chart'!$A107,JustProducts,'A Chart'!B$1)+B106)","v":0},{"$f":"IF($A106=Quote_date,C106,COUNTIFS(JustDates,'A Chart'!$A107,JustProducts,'A Chart'!C$1)+C106)","v":0}]
["2010-05-06",{"$f":"IF($A107=Quote_date,B107,COUNTIFS(JustDates,'A Chart'!$A108,JustProducts,'A Chart'!B$1)+B107)","v":0},{"$f":"IF($A107=Quote_date,C107,COUNTIFS(JustDates,'A Chart'!$A108,JustProducts,'A Chart'!C$1)+C107)","v":0}]
["2010-05-06",{"$f":"IF($A108=Quote_date,B108,COUNTIFS(JustDates,'A Chart'!$A109,JustProducts,'A Chart'!B$1)+B108)","v":0},{"$f":"IF($A108=Quote_date,C108,COUNTIFS(JustDates,'A Chart'!$A109,JustProducts,'A Chart'!C$1)+C108)","v":0}]
["2010-05-06",{"$f":"IF($A109=Quote_date,B109,COUNTIFS(JustDates,'A Chart'!$A110,JustProducts,'A Chart'!B$1)+B109)","v":0},{"$f":"IF($A109=Quote_date,C109,COUNTIFS(JustDates,'A Chart'!$A110,JustProducts,'A Chart'!C$1)+C109)","v":0}]
["2010-05-06",{"$f":"IF($A110=Quote_date,B110,COUNTIFS(JustDates,'A Chart'!$A111,JustProducts,'A Chart'!B$1)+B110)","v":0},{"$f":"IF($A110=Quote_date,C110,COUNTIFS(JustDates,'A Chart'!$A111,JustProducts,'A Chart'!C$1)+C110)","v":0}]
["2010-05-06",{"$f":"IF($A111=Quote_date,B111,COUNTIFS(JustDates,'A Chart'!$A112,JustProducts,'A Chart'!B$1)+B111)","v":0},{"$f":"IF($A111=Quote_date,C111,COUNTIFS(JustDates,'A Chart'!$A112,JustProducts,'A Chart'!C$1)+C111)","v":0}]
["2010-05-06",{"$f":"IF($A112=Quote_date,B112,COUNTIFS(JustDates,'A Chart'!$A113,JustProducts,'A Chart'!B$1)+B112)","v":0},{"$f":"IF($A112=Quote_date,C112,COUNTIFS(JustDates,'A Chart'!$A113,JustProducts,'A Chart'!C$1)+C112)","v":0}]
["2010-05-06",{"$f":"IF($A113=Quote_date,B113,COUNTIFS(JustDates,'A Chart'!$A114,JustProducts,'A Chart'!B$1)+B113)","v":0},{"$f":"IF($A113=Quote_date,C113,COUNTIFS(JustDates,'A Chart'!$A114,JustProducts,'A Chart'!C$1)+C113)","v":0}]
["2010-05-06",{"$f":"IF($A114=Quote_date,B114,COUNTIFS(JustDates,'A Chart'!$A115,JustProducts,'A Chart'!B$1)+B114)","v":0},{"$f":"IF($A114=Quote_date,C114,COUNTIFS(JustDates,'A Chart'!$A115,JustProducts,'A Chart'!C$1)+C114)","v":0}]
["2010-05-06",{"$f":"IF($A115=Quote_date,B115,COUNTIFS(JustDates,'A Chart'!$A116,JustProducts,'A Chart'!B$1)+B115)","v":0},{"$f":"IF($A115=Quote_date,C115,COUNTIFS(JustDates,'A Chart'!$A116,JustProducts,'A Chart'!C$1)+C115)","v":0}]
["2010-05-06",{"$f":"IF($A116=Quote_date,B116,COUNTIFS(JustDates,'A Chart'!$A117,JustProducts,'A Chart'!B$1)+B116)","v":0},{"$f":"IF($A116=Quote_date,C116,COUNTIFS(JustDates,'A Chart'!$A117,JustProducts,'A Chart'!C$1)+C116)","v":0}]
["2010-05-06",{"$f":"IF($A117=Quote_date,B117,COUNTIFS(JustDates,'A Chart'!$A118,JustProducts,'A Chart'!B$1)+B117)","v":0},{"$f":"IF($A117=Quote_date,C117,COUNTIFS(JustDates,'A Chart'!$A118,JustProducts,'A Chart'!C$1)+C117)","v":0}]
["2010-05-06",{"$f":"IF($A118=Quote_date,B118,COUNTIFS(JustDates,'A Chart'!$A119,JustProducts,'A Chart'!B$1)+B118)","v":0},{"$f":"IF($A118=Quote_date,C118,COUNTIFS(JustDates,'A Chart'!$A119,JustProducts,'A Chart'!C$1)+C118)","v":0}]
["2010-05-06",{"$f":"IF($A119=Quote_date,B119,COUNTIFS(JustDates,'A Chart'!$A120,JustProducts,'A Chart'!B$1)+B119)","v":0},{"$f":"IF($A119=Quote_date,C119,COUNTIFS(JustDates,'A Chart'!$A120,JustProducts,'A Chart'!C$1)+C119)","v":0}]
["2010-05-06",{"$f":"IF($A120=Quote_date,B120,COUNTIFS(JustDates,'A Chart'!$A121,JustProducts,'A Chart'!B$1)+B120)","v":0},{"$f":"IF($A120=Quote_date,C120,COUNTIFS(JustDates,'A Chart'!$A121,JustProducts,'A Chart'!C$1)+C120)","v":0}]
["2010-05-06",{"$f":"IF($A121=Quote_date,B121,COUNTIFS(JustDates,'A Chart'!$A122,JustProducts,'A Chart'!B$1)+B121)","v":0},{"$f":"IF($A121=Quote_date,C121,COUNTIFS(JustDates,'A Chart'!$A122,JustProducts,'A Chart'!C$1)+C121)","v":0}]
["2010-05-06",{"$f":"IF($A122=Quote_date,B122,COUNTIFS(JustDates,'A Chart'!$A123,JustProducts,'A Chart'!B$1)+B122)","v":0},{"$f":"IF($A122=Quote_date,C122,COUNTIFS(JustDates,'A Chart'!$A123,JustProducts,'A Chart'!C$1)+C122)","v":0}]
["2010-05-06",{"$f":"IF($A123=Quote_date,B123,COUNTIFS(JustDates,'A Chart'!$A124,JustProducts,'A Chart'!B$1)+B123)","v":0},{"$f":"IF($A123=Quote_date,C123,COUNTIFS(JustDates,'A Chart'!$A124,JustProducts,'A Chart'!C$1)+C123)","v":0}]
["2010-05-06",{"$f":"IF($A124=Quote_date,B124,COUNTIFS(JustDates,'A Chart'!$A125,JustProducts,'A Chart'!B$1)+B124)","v":0},{"$f":"IF($A124=Quote_date,C124,COUNTIFS(JustDates,'A Chart'!$A125,JustProducts,'A Chart'!C$1)+C124)","v":0}]
["2010-05-06",{"$f":"IF($A125=Quote_date,B125,COUNTIFS(JustDates,'A Chart'!$A126,JustProducts,'A Chart'!B$1)+B125)","v":0},{"$f":"IF($A125=Quote_date,C125,COUNTIFS(JustDates,'A Chart'!$A126,JustProducts,'A Chart'!C$1)+C125)","v":0}]
["2010-05-06",{"$f":"IF($A126=Quote_date,B126,COUNTIFS(JustDates,'A Chart'!$A127,JustProducts,'A Chart'!B$1)+B126)","v":0},{"$f":"IF($A126=Quote_date,C126,COUNTIFS(JustDates,'A Chart'!$A127,JustProducts,'A Chart'!C$1)+C126)","v":0}]
["2010-05-06",{"$f":"IF($A127=Quote_date,B127,COUNTIFS(JustDates,'A Chart'!$A128,JustProducts,'A Chart'!B$1)+B127)","v":0},{"$f":"IF($A127=Quote_date,C127,COUNTIFS(JustDates,'A Chart'!$A128,JustProducts,'A Chart'!C$1)+C127)","v":0}]
["2010-05-06",{"$f":"IF($A128=Quote_date,B128,COUNTIFS(JustDates,'A Chart'!$A129,JustProducts,'A Chart'!B$1)+B128)","v":0},{"$f":"IF($A128=Quote_date,C128,COUNTIFS(JustDates,'A Chart'!$A129,JustProducts,'A Chart'!C$1)+C128)","v":0}]
["2010-05-06",{"$f":"IF($A129=Quote_date,B129,COUNTIFS(JustDates,'A Chart'!$A130,JustProducts,'A Chart'!B$1)+B129)","v":0},{"$f":"IF($A129=Quote_date,C129,COUNTIFS(JustDates,'A Chart'!$A130,JustProducts,'A Chart'!C$1)+C129)","v":0}]
["2010-05-06",{"$f":"IF($A130=Quote_date,B130,COUNTIFS(JustDates,'A Chart'!$A131,JustProducts,'A Chart'!B$1)+B130)","v":0},{"$f":"IF($A130=Quote_date,C130,COUNTIFS(JustDates,'A Chart'!$A131,JustProducts,'A Chart'!C$1)+C130)","v":0}]
["2010-05-06",{"$f":"IF($A131=Quote_date,B131,COUNTIFS(JustDates,'A Chart'!$A132,JustProducts,'A Chart'!B$1)+B131)","v":0},{"$f":"IF($A131=Quote_date,C131,COUNTIFS(JustDates,'A Chart'!$A132,JustProducts,'A Chart'!C$1)+C131)","v":0}]
["2010-05-06",{"$f":"IF($A132=Quote_date,B132,COUNTIFS(JustDates,'A Chart'!$A133,JustProducts,'A Chart'!B$1)+B132)","v":0},{"$f":"IF($A132=Quote_date,C132,COUNTIFS(JustDates,'A Chart'!$A133,JustProducts,'A Chart'!C$1)+C132)","v":0}]
["2010-05-06",{"$f":"IF($A133=Quote_date,B133,COUNTIFS(JustDates,'A Chart'!$A134,JustProducts,'A Chart'!B$1)+B133)","v":0},{"$f":"IF($A133=Quote_date,C133,COUNTIFS(JustDates,'A Chart'!$A134,JustProducts,'A Chart'!C$1)+C133)","v":0}]
["2010-05-06",{"$f":"IF($A134=Quote_date,B134,COUNTIFS(JustDates,'A Chart'!$A135,JustProducts,'A Chart'!B$1)+B134)","v":0},{"$f":"IF($A134=Quote_date,C134,COUNTIFS(JustDates,'A Chart'!$A135,JustProducts,'A Chart'!C$1)+C134)","v":0}]
["2010-05-06",{"$f":"IF($A135=Quote_date,B135,COUNTIFS(JustDates,'A Chart'!$A136,JustProducts,'A Chart'!B$1)+B135)","v":0},{"$f":"IF($A135=Quote_date,C135,COUNTIFS(JustDates,'A Chart'!$A136,JustProducts,'A Chart'!C$1)+C135)","v":0}]
["2010-05-06",{"$f":"IF($A136=Quote_date,B136,COUNTIFS(JustDates,'A Chart'!$A137,JustProducts,'A Chart'!B$1)+B136)","v":0},{"$f":"IF($A136=Quote_date,C136,COUNTIFS(JustDates,'A Chart'!$A137,JustProducts,'A Chart'!C$1)+C136)","v":0}]
["2010-05-06",{"$f":"IF($A137=Quote_date,B137,COUNTIFS(JustDates,'A Chart'!$A138,JustProducts,'A Chart'!B$1)+B137)","v":0},{"$f":"IF($A137=Quote_date,C137,COUNTIFS(JustDates,'A Chart'!$A138,JustProducts,'A Chart'!C$1)+C137)","v":0}]
["2010-05-06",{"$f":"IF($A138=Quote_date,B138,COUNTIFS(JustDates,'A Chart'!$A139,JustProducts,'A Chart'!B$1)+B138)","v":0},{"$f":"IF($A138=Quote_date,C138,COUNTIFS(JustDates,'A Chart'!$A139,JustProducts,'A Chart'!C$1)+C138)","v":0}]
["2010-05-06",{"$f":"IF($A139=Quote_date,B139,COUNTIFS(JustDates,'A Chart'!$A140,JustProducts,'A Chart'!B$1)+B139)","v":0},{"$f":"IF($A139=Quote_date,C139,COUNTIFS(JustDates,'A Chart'!$A140,JustProducts,'A Chart'!C$1)+C139)","v":0}]
["2010-05-06",{"$f":"IF($A140=Quote_date,B140,COUNTIFS(JustDates,'A Chart'!$A141,JustProducts,'A Chart'!B$1)+B140)","v":0},{"$f":"IF($A140=Quote_date,C140,COUNTIFS(JustDates,'A Chart'!$A141,JustProducts,'A Chart'!C$1)+C140)","v":0}]
["2010-05-06",{"$f":"IF($A141=Quote_date,B141,COUNTIFS(JustDates,'A Chart'!$A142,JustProducts,'A Chart'!B$1)+B141)","v":0},{"$f":"IF($A141=Quote_date,C141,COUNTIFS(JustDates,'A Chart'!$A142,JustProducts,'A Chart'!C$1)+C141)","v":0}]
["2010-05-06",{"$f":"IF($A142=Quote_date,B142,COUNTIFS(JustDates,'A Chart'!$A143,JustProducts,'A Chart'!B$1)+B142)","v":0},{"$f":"IF($A142=Quote_date,C142,COUNTIFS(JustDates,'A Chart'!$A143,JustProducts,'A Chart'!C$1)+C142)","v":0}]
["2010-05-06",{"$f":"IF($A143=Quote_date,B143,COUNTIFS(JustDates,'A Chart'!$A144,JustProducts,'A Chart'!B$1)+B143)","v":0},{"$f":"IF($A143=Quote_date,C143,COUNTIFS(JustDates,'A Chart'!$A144,JustProducts,'A Chart'!C$1)+C143)","v":0}]
["2010-05-06",{"$f":"IF($A144=Quote_date,B144,COUNTIFS(JustDates,'A Chart'!$A145,JustProducts,'A Chart'!B$1)+B144)","v":0},{"$f":"IF($A144=Quote_date,C144,COUNTIFS(JustDates,'A Chart'!$A145,JustProducts,'A Chart'!C$1)+C144)","v":0}]
["2010-05-06",{"$f":"IF($A145=Quote_date,B145,COUNTIFS(JustDates,'A Chart'!$A146,JustProducts,'A Chart'!B$1)+B145)","v":0},{"$f":"IF($A145=Quote_date,C145,COUNTIFS(JustDates,'A Chart'!$A146,JustProducts,'A Chart'!C$1)+C145)","v":0}]
["2010-05-06",{"$f":"IF($A146=Quote_date,B146,COUNTIFS(JustDates,'A Chart'!$A147,JustProducts,'A Chart'!B$1)+B146)","v":0},{"$f":"IF($A146=Quote_date,C146,COUNTIFS(JustDates,'A Chart'!$A147,JustProducts,'A Chart'!C$1)+C146)","v":0}]
["2010-05-06",{"$f":"IF($A147=Quote_date,B147,COUNTIFS(JustDates,'A Chart'!$A148,JustProducts,'A Chart'!B$1)+B147)","v":0},{"$f":"IF($A147=Quote_date,C147,COUNTIFS(JustDates,'A Chart'!$A148,JustProducts,'A Chart'!C$1)+C147)","v":0}]
["2010-05-06",{"$f":"IF($A148=Quote_date,B148,COUNTIFS(JustDates,'A Chart'!$A149,JustProducts,'A Chart'!B$1)+B148)","v":0},{"$f":"IF($A148=Quote_date,C148,COUNTIFS(JustDates,'A Chart'!$A149,JustProducts,'A Chart'!C$1)+C148)","v":0}]
["2010-05-06",{"$f":"IF($A149=Quote_date,B149,COUNTIFS(JustDates,'A Chart'!$A150,JustProducts,'A Chart'!B$1)+B149)","v":0},{"$f":"IF($A149=Quote_date,C149,COUNTIFS(JustDates,'A Chart'!$A150,JustProducts,'A Chart'!C$1)+C149)","v":0}]
["2010-05-06",{"$f":"IF($A150=Quote_date,B150,COUNTIFS(JustDates,'A Chart'!$A151,JustProducts,'A Chart'!B$1)+B150)","v":0},{"$f":"IF($A150=Quote_date,C150,COUNTIFS(JustDates,'A Chart'!$A151,JustProducts,'A Chart'!C$1)+C150)","v":0}]
["2010-05-06",{"$f":"IF($A151=Quote_date,B151,COUNTIFS(JustDates,'A Chart'!$A152,JustProducts,'A Chart'!B$1)+B151)","v":0},{"$f":"IF($A151=Quote_date,C151,COUNTIFS(JustDates,'A Chart'!$A152,JustProducts,'A Chart'!C$1)+C151)","v":0}]
["2010-05-06",{"$f":"IF($A152=Quote_date,B152,COUNTIFS(JustDates,'A Chart'!$A153,JustProducts,'A Chart'!B$1)+B152)","v":0},{"$f":"IF($A152=Quote_date,C152,COUNTIFS(JustDates,'A Chart'!$A153,JustProducts,'A Chart'!C$1)+C152)","v":0}]
["2010-05-06",{"$f":"IF($A153=Quote_date,B153,COUNTIFS(JustDates,'A Chart'!$A154,JustProducts,'A Chart'!B$1)+B153)","v":0},{"$f":"IF($A153=Quote_date,C153,COUNTIFS(JustDates,'A Chart'!$A154,JustProducts,'A Chart'!C$1)+C153)","v":0}]
["2010-05-06",{"$f":"IF($A154=Quote_date,B154,COUNTIFS(JustDates,'A Chart'!$A155,JustProducts,'A Chart'!B$1)+B154)","v":0},{"$f":"IF($A154=Quote_date,C154,COUNTIFS(JustDates,'A Chart'!$A155,JustProducts,'A Chart'!C$1)+C154)","v":0}]
["2010-05-06",{"$f":"IF($A155=Quote_date,B155,COUNTIFS(JustDates,'A Chart'!$A156,JustProducts,'A Chart'!B$1)+B155)","v":0},{"$f":"IF($A155=Quote_date,C155,COUNTIFS(JustDates,'A Chart'!$A156,JustProducts,'A Chart'!C$1)+C155)","v":0}]
["2010-05-06",{"$f":"IF($A156=Quote_date,B156,COUNTIFS(JustDates,'A Chart'!$A157,JustProducts,'A Chart'!B$1)+B156)","v":0},{"$f":"IF($A156=Quote_date,C156,COUNTIFS(JustDates,'A Chart'!$A157,JustProducts,'A Chart'!C$1)+C156)","v":0}]
["2010-05-06",{"$f":"IF($A157=Quote_date,B157,COUNTIFS(JustDates,'A Chart'!$A158,JustProducts,'A Chart'!B$1)+B157)","v":0},{"$f":"IF($A157=Quote_date,C157,COUNTIFS(JustDates,'A Chart'!$A158,JustProducts,'A Chart'!C$1)+C157)","v":0}]
["2010-05-06",{"$f":"IF($A158=Quote_date,B158,COUNTIFS(JustDates,'A Chart'!$A159,JustProducts,'A Chart'!B$1)+B158)","v":0},{"$f":"IF($A158=Quote_date,C158,COUNTIFS(JustDates,'A Chart'!$A159,JustProducts,'A Chart'!C$1)+C158)","v":0}]
["2010-05-06",{"$f":"IF($A159=Quote_date,B159,COUNTIFS(JustDates,'A Chart'!$A160,JustProducts,'A Chart'!B$1)+B159)","v":0},{"$f":"IF($A159=Quote_date,C159,COUNTIFS(JustDates,'A Chart'!$A160,JustProducts,'A Chart'!C$1)+C159)","v":0}]
["2010-05-06",{"$f":"IF($A160=Quote_date,B160,COUNTIFS(JustDates,'A Chart'!$A161,JustProducts,'A Chart'!B$1)+B160)","v":0},{"$f":"IF($A160=Quote_date,C160,COUNTIFS(JustDates,'A Chart'!$A161,JustProducts,'A Chart'!C$1)+C160)","v":0}]
["2010-05-06",{"$f":"IF($A161=Quote_date,B161,COUNTIFS(JustDates,'A Chart'!$A162,JustProducts,'A Chart'!B$1)+B161)","v":0},{"$f":"IF($A161=Quote_date,C161,COUNTIFS(JustDates,'A Chart'!$A162,JustProducts,'A Chart'!C$1)+C161)","v":0}]
["2010-05-06",{"$f":"IF($A162=Quote_date,B162,COUNTIFS(JustDates,'A Chart'!$A163,JustProducts,'A Chart'!B$1)+B162)","v":0},{"$f":"IF($A162=Quote_date,C162,COUNTIFS(JustDates,'A Chart'!$A163,JustProducts,'A Chart'!C$1)+C162)","v":0}]
["2010-05-06",{"$f":"IF($A163=Quote_date,B163,COUNTIFS(JustDates,'A Chart'!$A164,JustProducts,'A Chart'!B$1)+B163)","v":0},{"$f":"IF($A163=Quote_date,C163,COUNTIFS(JustDates,'A Chart'!$A164,JustProducts,'A Chart'!C$1)+C163)","v":0}]
["2010-05-06",{"$f":"IF($A164=Quote_date,B164,COUNTIFS(JustDates,'A Chart'!$A165,JustProducts,'A Chart'!B$1)+B164)","v":0},{"$f":"IF($A164=Quote_date,C164,COUNTIFS(JustDates,'A Chart'!$A165,JustProducts,'A Chart'!C$1)+C164)","v":0}]
["2010-05-06",{"$f":"IF($A165=Quote_date,B165,COUNTIFS(JustDates,'A Chart'!$A166,JustProducts,'A Chart'!B$1)+B165)","v":0},{"$f":"IF($A165=Quote_date,C165,COUNTIFS(JustDates,'A Chart'!$A166,JustProducts,'A Chart'!C$1)+C165)","v":0}]
["2010-05-06",{"$f":"IF($A166=Quote_date,B166,COUNTIFS(JustDates,'A Chart'!$A167,JustProducts,'A Chart'!B$1)+B166)","v":0},{"$f":"IF($A166=Quote_date,C166,COUNTIFS(JustDates,'A Chart'!$A167,JustProducts,'A Chart'!C$1)+C166)","v":0}]
["2010-05-06",{"$f":"IF($A167=Quote_date,B167,COUNTIFS(JustDates,'A Chart'!$A168,JustProducts,'A Chart'!B$1)+B167)","v":0},{"$f":"IF($A167=Quote_date,C167,COUNTIFS(JustDates,'A Chart'!$A168,JustProducts,'A Chart'!C$1)+C167)","v":0}]
["2010-05-06",{"$f":"IF($A168=Quote_date,B168,COUNTIFS(JustDates,'A Chart'!$A169,JustProducts,'A Chart'!B$1)+B168)","v":0},{"$f":"IF($A168=Quote_date,C168,COUNTIFS(JustDates,'A Chart'!$A169,JustProducts,'A Chart'!C$1)+C168)","v":0}]
["2010-05-06",{"$f":"IF($A169=Quote_date,B169,COUNTIFS(JustDates,'A Chart'!$A170,JustProducts,'A Chart'!B$1)+B169)","v":0},{"$f":"IF($A169=Quote_date,C169,COUNTIFS(JustDates,'A Chart'!$A170,JustProducts,'A Chart'!C$1)+C169)","v":0}]
[{"$f":"MIN(A170+1,Quote_date)","v":"2010-05-06"},{"$f":"IF($A170=Quote_date,B170,COUNTIFS(JustDates,'A Chart'!$A171,JustProducts,'A Chart'!B$1)+B170)","v":0},{"$f":"IF($A170=Quote_date,C170,COUNTIFS(JustDates,'A Chart'!$A171,JustProducts,'A Chart'!C$1)+C170)","v":0}]
["2010-05-06",{"$f":"IF($A171=Quote_date,B171,COUNTIFS(JustDates,'A Chart'!$A172,JustProducts,'A Chart'!B$1)+B171)","v":0},{"$f":"IF($A171=Quote_date,C171,COUNTIFS(JustDates,'A Chart'!$A172,JustProducts,'A Chart'!C$1)+C171)","v":0}]
["2010-05-06",{"$f":"IF($A172=Quote_date,B172,COUNTIFS(JustDates,'A Chart'!$A173,JustProducts,'A Chart'!B$1)+B172)","v":0},{"$f":"IF($A172=Quote_date,C172,COUNTIFS(JustDates,'A Chart'!$A173,JustProducts,'A Chart'!C$1)+C172)","v":0}]
["2010-05-06",{"$f":"IF($A173=Quote_date,B173,COUNTIFS(JustDates,'A Chart'!$A174,JustProducts,'A Chart'!B$1)+B173)","v":0},{"$f":"IF($A173=Quote_date,C173,COUNTIFS(JustDates,'A Chart'!$A174,JustProducts,'A Chart'!C$1)+C173)","v":0}]
["2010-05-06",{"$f":"IF($A174=Quote_date,B174,COUNTIFS(JustDates,'A Chart'!$A175,JustProducts,'A Chart'!B$1)+B174)","v":0},{"$f":"IF($A174=Quote_date,C174,COUNTIFS(JustDates,'A Chart'!$A175,JustProducts,'A Chart'!C$1)+C174)","v":0}]
["2010-05-06",{"$f":"IF($A175=Quote_date,B175,COUNTIFS(JustDates,'A Chart'!$A176,JustProducts,'A Chart'!B$1)+B175)","v":0},{"$f":"IF($A175=Quote_date,C175,COUNTIFS(JustDates,'A Chart'!$A176,JustProducts,'A Chart'!C$1)+C175)","v":0}]
["2010-05-06",{"$f":"IF($A176=Quote_date,B176,COUNTIFS(JustDates,'A Chart'!$A177,JustProducts,'A Chart'!B$1)+B176)","v":0},{"$f":"IF($A176=Quote_date,C176,COUNTIFS(JustDates,'A Chart'!$A177,JustProducts,'A Chart'!C$1)+C176)","v":0}]
["2010-05-06",{"$f":"IF($A177=Quote_date,B177,COUNTIFS(JustDates,'A Chart'!$A178,JustProducts,'A Chart'!B$1)+B177)","v":0},{"$f":"IF($A177=Quote_date,C177,COUNTIFS(JustDates,'A Chart'!$A178,JustProducts,'A Chart'!C$1)+C177)","v":0}]
["2010-05-06",{"$f":"IF($A178=Quote_date,B178,COUNTIFS(JustDates,'A Chart'!$A179,JustProducts,'A Chart'!B$1)+B178)","v":0},{"$f":"IF($A178=Quote_date,C178,COUNTIFS(JustDates,'A Chart'!$A179,JustProducts,'A Chart'!C$1)+C178)","v":0}]
["2010-05-06",{"$f":"IF($A179=Quote_date,B179,COUNTIFS(JustDates,'A Chart'!$A180,JustProducts,'A Chart'!B$1)+B179)","v":0},{"$f":"IF($A179=Quote_date,C179,COUNTIFS(JustDates,'A Chart'!$A180,JustProducts,'A Chart'!C$1)+C179)","v":0}]
["2010-05-06",{"$f":"IF($A180=Quote_date,B180,COUNTIFS(JustDates,'A Chart'!$A181,JustProducts,'A Chart'!B$1)+B180)","v":0},{"$f":"IF($A180=Quote_date,C180,COUNTIFS(JustDates,'A Chart'!$A181,JustProducts,'A Chart'!C$1)+C180)","v":0}]
["2010-05-06",{"$f":"IF($A181=Quote_date,B181,COUNTIFS(JustDates,'A Chart'!$A182,JustProducts,'A Chart'!B$1)+B181)","v":0},{"$f":"IF($A181=Quote_date,C181,COUNTIFS(JustDates,'A Chart'!$A182,JustProducts,'A Chart'!C$1)+C181)","v":0}]
["2010-05-06",{"$f":"IF($A182=Quote_date,B182,COUNTIFS(JustDates,'A Chart'!$A183,JustProducts,'A Chart'!B$1)+B182)","v":0},{"$f":"IF($A182=Quote_date,C182,COUNTIFS(JustDates,'A Chart'!$A183,JustProducts,'A Chart'!C$1)+C182)","v":0}]
["2010-05-06",{"$f":"IF($A183=Quote_date,B183,COUNTIFS(JustDates,'A Chart'!$A184,JustProducts,'A Chart'!B$1)+B183)","v":0},{"$f":"IF($A183=Quote_date,C183,COUNTIFS(JustDates,'A Chart'!$A184,JustProducts,'A Chart'!C$1)+C183)","v":0}]
["2010-05-06",{"$f":"IF($A184=Quote_date,B184,COUNTIFS(JustDates,'A Chart'!$A185,JustProducts,'A Chart'!B$1)+B184)","v":0},{"$f":"IF($A184=Quote_date,C184,COUNTIFS(JustDates,'A Chart'!$A185,JustProducts,'A Chart'!C$1)+C184)","v":0}]
["2010-05-06",{"$f":"IF($A185=Quote_date,B185,COUNTIFS(JustDates,'A Chart'!$A186,JustProducts,'A Chart'!B$1)+B185)","v":0},{"$f":"IF($A185=Quote_date,C185,COUNTIFS(JustDates,'A Chart'!$A186,JustProducts,'A Chart'!C$1)+C185)","v":0}]
["2010-05-06",{"$f":"IF($A186=Quote_date,B186,COUNTIFS(JustDates,'A Chart'!$A187,JustProducts,'A Chart'!B$1)+B186)","v":0},{"$f":"IF($A186=Quote_date,C186,COUNTIFS(JustDates,'A Chart'!$A187,JustProducts,'A Chart'!C$1)+C186)","v":0}]
["2010-05-06",{"$f":"IF($A187=Quote_date,B187,COUNTIFS(JustDates,'A Chart'!$A188,JustProducts,'A Chart'!B$1)+B187)","v":0},{"$f":"IF($A187=Quote_date,C187,COUNTIFS(JustDates,'A Chart'!$A188,JustProducts,'A Chart'!C$1)+C187)","v":0}]
["2010-05-06",{"$f":"IF($A188=Quote_date,B188,COUNTIFS(JustDates,'A Chart'!$A189,JustProducts,'A Chart'!B$1)+B188)","v":0},{"$f":"IF($A188=Quote_date,C188,COUNTIFS(JustDates,'A Chart'!$A189,JustProducts,'A Chart'!C$1)+C188)","v":0}]
["2010-05-06",{"$f":"IF($A189=Quote_date,B189,COUNTIFS(JustDates,'A Chart'!$A190,JustProducts,'A Chart'!B$1)+B189)","v":0},{"$f":"IF($A189=Quote_date,C189,COUNTIFS(JustDates,'A Chart'!$A190,JustProducts,'A Chart'!C$1)+C189)","v":0}]
["2010-05-06",{"$f":"IF($A190=Quote_date,B190,COUNTIFS(JustDates,'A Chart'!$A191,JustProducts,'A Chart'!B$1)+B190)","v":0},{"$f":"IF($A190=Quote_date,C190,COUNTIFS(JustDates,'A Chart'!$A191,JustProducts,'A Chart'!C$1)+C190)","v":0}]
["2010-05-06",{"$f":"IF($A191=Quote_date,B191,COUNTIFS(JustDates,'A Chart'!$A192,JustProducts,'A Chart'!B$1)+B191)","v":0},{"$f":"IF($A191=Quote_date,C191,COUNTIFS(JustDates,'A Chart'!$A192,JustProducts,'A Chart'!C$1)+C191)","v":0}]
["2010-05-06",{"$f":"IF($A192=Quote_date,B192,COUNTIFS(JustDates,'A Chart'!$A193,JustProducts,'A Chart'!B$1)+B192)","v":0},{"$f":"IF($A192=Quote_date,C192,COUNTIFS(JustDates,'A Chart'!$A193,JustProducts,'A Chart'!C$1)+C192)","v":0}]
["2010-05-06",{"$f":"IF($A193=Quote_date,B193,COUNTIFS(JustDates,'A Chart'!$A194,JustProducts,'A Chart'!B$1)+B193)","v":0},{"$f":"IF($A193=Quote_date,C193,COUNTIFS(JustDates,'A Chart'!$A194,JustProducts,'A Chart'!C$1)+C193)","v":0}]
["2010-05-06",{"$f":"IF($A194=Quote_date,B194,COUNTIFS(JustDates,'A Chart'!$A195,JustProducts,'A Chart'!B$1)+B194)","v":0},{"$f":"IF($A194=Quote_date,C194,COUNTIFS(JustDates,'A Chart'!$A195,JustProducts,'A Chart'!C$1)+C194)","v":0}]
["2010-05-06",{"$f":"IF($A195=Quote_date,B195,COUNTIFS(JustDates,'A Chart'!$A196,JustProducts,'A Chart'!B$1)+B195)","v":0},{"$f":"IF($A195=Quote_date,C195,COUNTIFS(JustDates,'A Chart'!$A196,JustProducts,'A Chart'!C$1)+C195)","v":0}]
["2010-05-06",{"$f":"IF($A196=Quote_date,B196,COUNTIFS(JustDates,'A Chart'!$A197,JustProducts,'A Chart'!B$1)+B196)","v":0},{"$f":"IF($A196=Quote_date,C196,COUNTIFS(JustDates,'A Chart'!$A197,JustProducts,'A Chart'!C$1)+C196)","v":0}]
["2010-05-06",{"$f":"IF($A197=Quote_date,B197,COUNTIFS(JustDates,'A Chart'!$A198,JustProducts,'A Chart'!B$1)+B197)","v":0},{"$f":"IF($A197=Quote_date,C197,COUNTIFS(JustDates,'A Chart'!$A198,JustProducts,'A Chart'!C$1)+C197)","v":0}]
["2010-05-06",{"$f":"IF($A198=Quote_date,B198,COUNTIFS(JustDates,'A Chart'!$A199,JustProducts,'A Chart'!B$1)+B198)","v":0},{"$f":"IF($A198=Quote_date,C198,COUNTIFS(JustDates,'A Chart'!$A199,JustProducts,'A Chart'!C$1)+C198)","v":0}]
["2010-05-06",{"$f":"IF($A199=Quote_date,B199,COUNTIFS(JustDates,'A Chart'!$A200,JustProducts,'A Chart'!B$1)+B199)","v":0},{"$f":"IF($A199=Quote_date,C199,COUNTIFS(JustDates,'A Chart'!$A200,JustProducts,'A Chart'!C$1)+C199)","v":0}]
["2010-05-06",{"$f":"IF($A200=Quote_date,B200,COUNTIFS(JustDates,'A Chart'!$A201,JustProducts,'A Chart'!B$1)+B200)","v":0},{"$f":"IF($A200=Quote_date,C200,COUNTIFS(JustDates,'A Chart'!$A201,JustProducts,'A Chart'!C$1)+C200)","v":0}]
["2010-05-06",{"$f":"IF($A201=Quote_date,B201,COUNTIFS(JustDates,'A Chart'!$A202,JustProducts,'A Chart'!B$1)+B201)","v":0},{"$f":"IF($A201=Quote_date,C201,COUNTIFS(JustDates,'A Chart'!$A202,JustProducts,'A Chart'!C$1)+C201)","v":0}]
["2010-05-06",{"$f":"IF($A202=Quote_date,B202,COUNTIFS(JustDates,'A Chart'!$A203,JustProducts,'A Chart'!B$1)+B202)","v":0},{"$f":"IF($A202=Quote_date,C202,COUNTIFS(JustDates,'A Chart'!$A203,JustProducts,'A Chart'!C$1)+C202)","v":0}]
["2010-05-06",{"$f":"IF($A203=Quote_date,B203,COUNTIFS(JustDates,'A Chart'!$A204,JustProducts,'A Chart'!B$1)+B203)","v":0},{"$f":"IF($A203=Quote_date,C203,COUNTIFS(JustDates,'A Chart'!$A204,JustProducts,'A Chart'!C$1)+C203)","v":0}]
["2010-05-06",{"$f":"IF($A204=Quote_date,B204,COUNTIFS(JustDates,'A Chart'!$A205,JustProducts,'A Chart'!B$1)+B204)","v":0},{"$f":"IF($A204=Quote_date,C204,COUNTIFS(JustDates,'A Chart'!$A205,JustProducts,'A Chart'!C$1)+C204)","v":0}]
["2010-05-06",{"$f":"IF($A205=Quote_date,B205,COUNTIFS(JustDates,'A Chart'!$A206,JustProducts,'A Chart'!B$1)+B205)","v":0},{"$f":"IF($A205=Quote_date,C205,COUNTIFS(JustDates,'A Chart'!$A206,JustProducts,'A Chart'!C$1)+C205)","v":0}]
["2010-05-06",{"$f":"IF($A206=Quote_date,B206,COUNTIFS(JustDates,'A Chart'!$A207,JustProducts,'A Chart'!B$1)+B206)","v":0},{"$f":"IF($A206=Quote_date,C206,COUNTIFS(JustDates,'A Chart'!$A207,JustProducts,'A Chart'!C$1)+C206)","v":0}]
["2010-05-06",{"$f":"IF($A207=Quote_date,B207,COUNTIFS(JustDates,'A Chart'!$A208,JustProducts,'A Chart'!B$1)+B207)","v":0},{"$f":"IF($A207=Quote_date,C207,COUNTIFS(JustDates,'A Chart'!$A208,JustProducts,'A Chart'!C$1)+C207)","v":0}]
["2010-05-06",{"$f":"IF($A208=Quote_date,B208,COUNTIFS(JustDates,'A Chart'!$A209,JustProducts,'A Chart'!B$1)+B208)","v":0},{"$f":"IF($A208=Quote_date,C208,COUNTIFS(JustDates,'A Chart'!$A209,JustProducts,'A Chart'!C$1)+C208)","v":0}]
["2010-05-06",{"$f":"IF($A209=Quote_date,B209,COUNTIFS(JustDates,'A Chart'!$A210,JustProducts,'A Chart'!B$1)+B209)","v":0},{"$f":"IF($A209=Quote_date,C209,COUNTIFS(JustDates,'A Chart'!$A210,JustProducts,'A Chart'!C$1)+C209)","v":0}]
["2010-05-06",{"$f":"IF($A210=Quote_date,B210,COUNTIFS(JustDates,'A Chart'!$A211,JustProducts,'A Chart'!B$1)+B210)","v":0},{"$f":"IF($A210=Quote_date,C210,COUNTIFS(JustDates,'A Chart'!$A211,JustProducts,'A Chart'!C$1)+C210)","v":0}]
["2010-05-06",{"$f":"IF($A211=Quote_date,B211,COUNTIFS(JustDates,'A Chart'!$A212,JustProducts,'A Chart'!B$1)+B211)","v":0},{"$f":"IF($A211=Quote_date,C211,COUNTIFS(JustDates,'A Chart'!$A212,JustProducts,'A Chart'!C$1)+C211)","v":0}]
["2010-05-06",{"$f":"IF($A212=Quote_date,B212,COUNTIFS(JustDates,'A Chart'!$A213,JustProducts,'A Chart'!B$1)+B212)","v":0},{"$f":"IF($A212=Quote_date,C212,COUNTIFS(JustDates,'A Chart'!$A213,JustProducts,'A Chart'!C$1)+C212)","v":0}]
["2010-05-06",{"$f":"IF($A213=Quote_date,B213,COUNTIFS(JustDates,'A Chart'!$A214,JustProducts,'A Chart'!B$1)+B213)","v":0},{"$f":"IF($A213=Quote_date,C213,COUNTIFS(JustDates,'A Chart'!$A214,JustProducts,'A Chart'!C$1)+C213)","v":0}]
["2010-05-06",{"$f":"IF($A214=Quote_date,B214,COUNTIFS(JustDates,'A Chart'!$A215,JustProducts,'A Chart'!B$1)+B214)","v":0},{"$f":"IF($A214=Quote_date,C214,COUNTIFS(JustDates,'A Chart'!$A215,JustProducts,'A Chart'!C$1)+C214)","v":0}]
["2010-05-06",{"$f":"IF($A215=Quote_date,B215,COUNTIFS(JustDates,'A Chart'!$A216,JustProducts,'A Chart'!B$1)+B215)","v":0},{"$f":"IF($A215=Quote_date,C215,COUNTIFS(JustDates,'A Chart'!$A216,JustProducts,'A Chart'!C$1)+C215)","v":0}]
["2010-05-06",{"$f":"IF($A216=Quote_date,B216,COUNTIFS(JustDates,'A Chart'!$A217,JustProducts,'A Chart'!B$1)+B216)","v":0},{"$f":"IF($A216=Quote_date,C216,COUNTIFS(JustDates,'A Chart'!$A217,JustProducts,'A Chart'!C$1)+C216)","v":0}]
["2010-05-06",{"$f":"IF($A217=Quote_date,B217,COUNTIFS(JustDates,'A Chart'!$A218,JustProducts,'A Chart'!B$1)+B217)","v":0},{"$f":"IF($A217=Quote_date,C217,COUNTIFS(JustDates,'A Chart'!$A218,JustProducts,'A Chart'!C$1)+C217)","v":0}]
["2010-05-06",{"$f":"IF($A218=Quote_date,B218,COUNTIFS(JustDates,'A Chart'!$A219,JustProducts,'A Chart'!B$1)+B218)","v":0},{"$f":"IF($A218=Quote_date,C218,COUNTIFS(JustDates,'A Chart'!$A219,JustProducts,'A Chart'!C$1)+C218)","v":0}]
["2010-05-06",{"$f":"IF($A219=Quote_date,B219,COUNTIFS(JustDates,'A Chart'!$A220,JustProducts,'A Chart'!B$1)+B219)","v":0},{"$f":"IF($A219=Quote_date,C219,COUNTIFS(JustDates,'A Chart'!$A220,JustProducts,'A Chart'!C$1)+C219)","v":0}]
["2010-05-06",{"$f":"IF($A220=Quote_date,B220,COUNTIFS(JustDates,'A Chart'!$A221,JustProducts,'A Chart'!B$1)+B220)","v":0},{"$f":"IF($A220=Quote_date,C220,COUNTIFS(JustDates,'A Chart'!$A221,JustProducts,'A Chart'!C$1)+C220)","v":0}]
["2010-05-06",{"$f":"IF($A221=Quote_date,B221,COUNTIFS(JustDates,'A Chart'!$A222,JustProducts,'A Chart'!B$1)+B221)","v":0},{"$f":"IF($A221=Quote_date,C221,COUNTIFS(JustDates,'A Chart'!$A222,JustProducts,'A Chart'!C$1)+C221)","v":0}]
["2010-05-06",{"$f":"IF($A222=Quote_date,B222,COUNTIFS(JustDates,'A Chart'!$A223,JustProducts,'A Chart'!B$1)+B222)","v":0},{"$f":"IF($A222=Quote_date,C222,COUNTIFS(JustDates,'A Chart'!$A223,JustProducts,'A Chart'!C$1)+C222)","v":0}]
["2010-05-06",{"$f":"IF($A223=Quote_date,B223,COUNTIFS(JustDates,'A Chart'!$A224,JustProducts,'A Chart'!B$1)+B223)","v":0},{"$f":"IF($A223=Quote_date,C223,COUNTIFS(JustDates,'A Chart'!$A224,JustProducts,'A Chart'!C$1)+C223)","v":0}]
["2010-05-06",{"$f":"IF($A224=Quote_date,B224,COUNTIFS(JustDates,'A Chart'!$A225,JustProducts,'A Chart'!B$1)+B224)","v":0},{"$f":"IF($A224=Quote_date,C224,COUNTIFS(JustDates,'A Chart'!$A225,JustProducts,'A Chart'!C$1)+C224)","v":0}]
["2010-05-06",{"$f":"IF($A225=Quote_date,B225,COUNTIFS(JustDates,'A Chart'!$A226,JustProducts,'A Chart'!B$1)+B225)","v":0},{"$f":"IF($A225=Quote_date,C225,COUNTIFS(JustDates,'A Chart'!$A226,JustProducts,'A Chart'!C$1)+C225)","v":0}]
["2010-05-06",{"$f":"IF($A226=Quote_date,B226,COUNTIFS(JustDates,'A Chart'!$A227,JustProducts,'A Chart'!B$1)+B226)","v":0},{"$f":"IF($A226=Quote_date,C226,COUNTIFS(JustDates,'A Chart'!$A227,JustProducts,'A Chart'!C$1)+C226)","v":0}]
["2010-05-06",{"$f":"IF($A227=Quote_date,B227,COUNTIFS(JustDates,'A Chart'!$A228,JustProducts,'A Chart'!B$1)+B227)","v":0},{"$f":"IF($A227=Quote_date,C227,COUNTIFS(JustDates,'A Chart'!$A228,JustProducts,'A Chart'!C$1)+C227)","v":0}]
["2010-05-06",{"$f":"IF($A228=Quote_date,B228,COUNTIFS(JustDates,'A Chart'!$A229,JustProducts,'A Chart'!B$1)+B228)","v":0},{"$f":"IF($A228=Quote_date,C228,COUNTIFS(JustDates,'A Chart'!$A229,JustProducts,'A Chart'!C$1)+C228)","v":0}]
["2010-05-06",{"$f":"IF($A229=Quote_date,B229,COUNTIFS(JustDates,'A Chart'!$A230,JustProducts,'A Chart'!B$1)+B229)","v":0},{"$f":"IF($A229=Quote_date,C229,COUNTIFS(JustDates,'A Chart'!$A230,JustProducts,'A Chart'!C$1)+C229)","v":0}]
["2010-05-06",{"$f":"IF($A230=Quote_date,B230,COUNTIFS(JustDates,'A Chart'!$A231,JustProducts,'A Chart'!B$1)+B230)","v":0},{"$f":"IF($A230=Quote_date,C230,COUNTIFS(JustDates,'A Chart'!$A231,JustProducts,'A Chart'!C$1)+C230)","v":0}]
["2010-05-06",{"$f":"IF($A231=Quote_date,B231,COUNTIFS(JustDates,'A Chart'!$A232,JustProducts,'A Chart'!B$1)+B231)","v":0},{"$f":"IF($A231=Quote_date,C231,COUNTIFS(JustDates,'A Chart'!$A232,JustProducts,'A Chart'!C$1)+C231)","v":0}]
["2010-05-06",{"$f":"IF($A232=Quote_date,B232,COUNTIFS(JustDates,'A Chart'!$A233,JustProducts,'A Chart'!B$1)+B232)","v":0},{"$f":"IF($A232=Quote_date,C232,COUNTIFS(JustDates,'A Chart'!$A233,JustProducts,'A Chart'!C$1)+C232)","v":0}]
["2010-05-06",{"$f":"IF($A233=Quote_date,B233,COUNTIFS(JustDates,'A Chart'!$A234,JustProducts,'A Chart'!B$1)+B233)","v":0},{"$f":"IF($A233=Quote_date,C233,COUNTIFS(JustDates,'A Chart'!$A234,JustProducts,'A Chart'!C$1)+C233)","v":0}]
[{"$f":"MIN(A234+1,Quote_date)","v":"2010-05-06"},{"$f":"IF($A234=Quote_date,B234,COUNTIFS(JustDates,'A Chart'!$A235,JustProducts,'A Chart'!B$1)+B234)","v":0},{"$f":"IF($A234=Quote_date,C234,COUNTIFS(JustDates,'A Chart'!$A235,JustProducts,'A Chart'!C$1)+C234)","v":0}]
["2010-05-06",{"$f":"IF($A235=Quote_date,B235,COUNTIFS(JustDates,'A Chart'!$A236,JustProducts,'A Chart'!B$1)+B235)","v":0},{"$f":"IF($A235=Quote_date,C235,COUNTIFS(JustDates,'A Chart'!$A236,JustProducts,'A Chart'!C$1)+C235)","v":0}]
["2010-05-06",{"$f":"IF($A236=Quote_date,B236,COUNTIFS(JustDates,'A Chart'!$A237,JustProducts,'A Chart'!B$1)+B236)","v":0},{"$f":"IF($A236=Quote_date,C236,COUNTIFS(JustDates,'A Chart'!$A237,JustProducts,'A Chart'!C$1)+C236)","v":0}]
["2010-05-06",{"$f":"IF($A237=Quote_date,B237,COUNTIFS(JustDates,'A Chart'!$A238,JustProducts,'A Chart'!B$1)+B237)","v":0},{"$f":"IF($A237=Quote_date,C237,COUNTIFS(JustDates,'A Chart'!$A238,JustProducts,'A Chart'!C$1)+C237)","v":0}]
["2010-05-06",{"$f":"IF($A238=Quote_date,B238,COUNTIFS(JustDates,'A Chart'!$A239,JustProducts,'A Chart'!B$1)+B238)","v":0},{"$f":"IF($A238=Quote_date,C238,COUNTIFS(JustDates,'A Chart'!$A239,JustProducts,'A Chart'!C$1)+C238)","v":0}]
["2010-05-06",{"$f":"IF($A239=Quote_date,B239,COUNTIFS(JustDates,'A Chart'!$A240,JustProducts,'A Chart'!B$1)+B239)","v":0},{"$f":"IF($A239=Quote_date,C239,COUNTIFS(JustDates,'A Chart'!$A240,JustProducts,'A Chart'!C$1)+C239)","v":0}]
["2010-05-06",{"$f":"IF($A240=Quote_date,B240,COUNTIFS(JustDates,'A Chart'!$A241,JustProducts,'A Chart'!B$1)+B240)","v":0},{"$f":"IF($A240=Quote_date,C240,COUNTIFS(JustDates,'A Chart'!$A241,JustProducts,'A Chart'!C$1)+C240)","v":0}]
["2010-05-06",{"$f":"IF($A241=Quote_date,B241,COUNTIFS(JustDates,'A Chart'!$A242,JustProducts,'A Chart'!B$1)+B241)","v":0},{"$f":"IF($A241=Quote_date,C241,COUNTIFS(JustDates,'A Chart'!$A242,JustProducts,'A Chart'!C$1)+C241)","v":0}]
["2010-05-06",{"$f":"IF($A242=Quote_date,B242,COUNTIFS(JustDates,'A Chart'!$A243,JustProducts,'A Chart'!B$1)+B242)","v":0},{"$f":"IF($A242=Quote_date,C242,COUNTIFS(JustDates,'A Chart'!$A243,JustProducts,'A Chart'!C$1)+C242)","v":0}]
["2010-05-06",{"$f":"IF($A243=Quote_date,B243,COUNTIFS(JustDates,'A Chart'!$A244,JustProducts,'A Chart'!B$1)+B243)","v":0},{"$f":"IF($A243=Quote_date,C243,COUNTIFS(JustDates,'A Chart'!$A244,JustProducts,'A Chart'!C$1)+C243)","v":0}]
["2010-05-06",{"$f":"IF($A244=Quote_date,B244,COUNTIFS(JustDates,'A Chart'!$A245,JustProducts,'A Chart'!B$1)+B244)","v":0},{"$f":"IF($A244=Quote_date,C244,COUNTIFS(JustDates,'A Chart'!$A245,JustProducts,'A Chart'!C$1)+C244)","v":0}]
["2010-05-06",{"$f":"IF($A245=Quote_date,B245,COUNTIFS(JustDates,'A Chart'!$A246,JustProducts,'A Chart'!B$1)+B245)","v":0},{"$f":"IF($A245=Quote_date,C245,COUNTIFS(JustDates,'A Chart'!$A246,JustProducts,'A Chart'!C$1)+C245)","v":0}]
["2010-05-06",{"$f":"IF($A246=Quote_date,B246,COUNTIFS(JustDates,'A Chart'!$A247,JustProducts,'A Chart'!B$1)+B246)","v":0},{"$f":"IF($A246=Quote_date,C246,COUNTIFS(JustDates,'A Chart'!$A247,JustProducts,'A Chart'!C$1)+C246)","v":0}]
["2010-05-06",{"$f":"IF($A247=Quote_date,B247,COUNTIFS(JustDates,'A Chart'!$A248,JustProducts,'A Chart'!B$1)+B247)","v":0},{"$f":"IF($A247=Quote_date,C247,COUNTIFS(JustDates,'A Chart'!$A248,JustProducts,'A Chart'!C$1)+C247)","v":0}]
["2010-05-06",{"$f":"IF($A248=Quote_date,B248,COUNTIFS(JustDates,'A Chart'!$A249,JustProducts,'A Chart'!B$1)+B248)","v":0},{"$f":"IF($A248=Quote_date,C248,COUNTIFS(JustDates,'A Chart'!$A249,JustProducts,'A Chart'!C$1)+C248)","v":0}]
["2010-05-06",{"$f":"IF($A249=Quote_date,B249,COUNTIFS(JustDates,'A Chart'!$A250,JustProducts,'A Chart'!B$1)+B249)","v":0},{"$f":"IF($A249=Quote_date,C249,COUNTIFS(JustDates,'A Chart'!$A250,JustProducts,'A Chart'!C$1)+C249)","v":0}]
["2010-05-06",{"$f":"IF($A250=Quote_date,B250,COUNTIFS(JustDates,'A Chart'!$A251,JustProducts,'A Chart'!B$1)+B250)","v":0},{"$f":"IF($A250=Quote_date,C250,COUNTIFS(JustDates,'A Chart'!$A251,JustProducts,'A Chart'!C$1)+C250)","v":0}]
["2010-05-06",{"$f":"IF($A251=Quote_date,B251,COUNTIFS(JustDates,'A Chart'!$A252,JustProducts,'A Chart'!B$1)+B251)","v":0},{"$f":"IF($A251=Quote_date,C251,COUNTIFS(JustDates,'A Chart'!$A252,JustProducts,'A Chart'!C$1)+C251)","v":0}]
["2010-05-06",{"$f":"IF($A252=Quote_date,B252,COUNTIFS(JustDates,'A Chart'!$A253,JustProducts,'A Chart'!B$1)+B252)","v":0},{"$f":"IF($A252=Quote_date,C252,COUNTIFS(JustDates,'A Chart'!$A253,JustProducts,'A Chart'!C$1)+C252)","v":0}]
["2010-05-06",{"$f":"IF($A253=Quote_date,B253,COUNTIFS(JustDates,'A Chart'!$A254,JustProducts,'A Chart'!B$1)+B253)","v":0},{"$f":"IF($A253=Quote_date,C253,COUNTIFS(JustDates,'A Chart'!$A254,JustProducts,'A Chart'!C$1)+C253)","v":0}]
["2010-05-06",{"$f":"IF($A254=Quote_date,B254,COUNTIFS(JustDates,'A Chart'!$A255,JustProducts,'A Chart'!B$1)+B254)","v":0},{"$f":"IF($A254=Quote_date,C254,COUNTIFS(JustDates,'A Chart'!$A255,JustProducts,'A Chart'!C$1)+C254)","v":0}]
["2010-05-06",{"$f":"IF($A255=Quote_date,B255,COUNTIFS(JustDates,'A Chart'!$A256,JustProducts,'A Chart'!B$1)+B255)","v":0},{"$f":"IF($A255=Quote_date,C255,COUNTIFS(JustDates,'A Chart'!$A256,JustProducts,'A Chart'!C$1)+C255)","v":0}]
["2010-05-06",{"$f":"IF($A256=Quote_date,B256,COUNTIFS(JustDates,'A Chart'!$A257,JustProducts,'A Chart'!B$1)+B256)","v":0},{"$f":"IF($A256=Quote_date,C256,COUNTIFS(JustDates,'A Chart'!$A257,JustProducts,'A Chart'!C$1)+C256)","v":0}]
["2010-05-06",{"$f":"IF($A257=Quote_date,B257,COUNTIFS(JustDates,'A Chart'!$A258,JustProducts,'A Chart'!B$1)+B257)","v":0},{"$f":"IF($A257=Quote_date,C257,COUNTIFS(JustDates,'A Chart'!$A258,JustProducts,'A Chart'!C$1)+C257)","v":0}]
["2010-05-06",{"$f":"IF($A258=Quote_date,B258,COUNTIFS(JustDates,'A Chart'!$A259,JustProducts,'A Chart'!B$1)+B258)","v":0},{"$f":"IF($A258=Quote_date,C258,COUNTIFS(JustDates,'A Chart'!$A259,JustProducts,'A Chart'!C$1)+C258)","v":0}]
["2010-05-06",{"$f":"IF($A259=Quote_date,B259,COUNTIFS(JustDates,'A Chart'!$A260,JustProducts,'A Chart'!B$1)+B259)","v":0},{"$f":"IF($A259=Quote_date,C259,COUNTIFS(JustDates,'A Chart'!$A260,JustProducts,'A Chart'!C$1)+C259)","v":0}]
["2010-05-06",{"$f":"IF($A260=Quote_date,B260,COUNTIFS(JustDates,'A Chart'!$A261,JustProducts,'A Chart'!B$1)+B260)","v":0},{"$f":"IF($A260=Quote_date,C260,COUNTIFS(JustDates,'A Chart'!$A261,JustProducts,'A Chart'!C$1)+C260)","v":0}]
["2010-05-06",{"$f":"IF($A261=Quote_date,B261,COUNTIFS(JustDates,'A Chart'!$A262,JustProducts,'A Chart'!B$1)+B261)","v":0},{"$f":"IF($A261=Quote_date,C261,COUNTIFS(JustDates,'A Chart'!$A262,JustProducts,'A Chart'!C$1)+C261)","v":0}]
["2010-05-06",{"$f":"IF($A262=Quote_date,B262,COUNTIFS(JustDates,'A Chart'!$A263,JustProducts,'A Chart'!B$1)+B262)","v":0},{"$f":"IF($A262=Quote_date,C262,COUNTIFS(JustDates,'A Chart'!$A263,JustProducts,'A Chart'!C$1)+C262)","v":0}]
["2010-05-06",{"$f":"IF($A263=Quote_date,B263,COUNTIFS(JustDates,'A Chart'!$A264,JustProducts,'A Chart'!B$1)+B263)","v":0},{"$f":"IF($A263=Quote_date,C263,COUNTIFS(JustDates,'A Chart'!$A264,JustProducts,'A Chart'!C$1)+C263)","v":0}]
["2010-05-06",{"$f":"IF($A264=Quote_date,B264,COUNTIFS(JustDates,'A Chart'!$A265,JustProducts,'A Chart'!B$1)+B264)","v":0},{"$f":"IF($A264=Quote_date,C264,COUNTIFS(JustDates,'A Chart'!$A265,JustProducts,'A Chart'!C$1)+C264)","v":0}]
["2010-05-06",{"$f":"IF($A265=Quote_date,B265,COUNTIFS(JustDates,'A Chart'!$A266,JustProducts,'A Chart'!B$1)+B265)","v":0},{"$f":"IF($A265=Quote_date,C265,COUNTIFS(JustDates,'A Chart'!$A266,JustProducts,'A Chart'!C$1)+C265)","v":0}]
["2010-05-06",{"$f":"IF($A266=Quote_date,B266,COUNTIFS(JustDates,'A Chart'!$A267,JustProducts,'A Chart'!B$1)+B266)","v":0},{"$f":"IF($A266=Quote_date,C266,COUNTIFS(JustDates,'A Chart'!$A267,JustProducts,'A Chart'!C$1)+C266)","v":0}]
["2010-05-06",{"$f":"IF($A267=Quote_date,B267,COUNTIFS(JustDates,'A Chart'!$A268,JustProducts,'A Chart'!B$1)+B267)","v":0},{"$f":"IF($A267=Quote_date,C267,COUNTIFS(JustDates,'A Chart'!$A268,JustProducts,'A Chart'!C$1)+C267)","v":0}]
["2010-05-06",{"$f":"IF($A268=Quote_date,B268,COUNTIFS(JustDates,'A Chart'!$A269,JustProducts,'A Chart'!B$1)+B268)","v":0},{"$f":"IF($A268=Quote_date,C268,COUNTIFS(JustDates,'A Chart'!$A269,JustProducts,'A Chart'!C$1)+C268)","v":0}]
["2010-05-06",{"$f":"IF($A269=Quote_date,B269,COUNTIFS(JustDates,'A Chart'!$A270,JustProducts,'A Chart'!B$1)+B269)","v":0},{"$f":"IF($A269=Quote_date,C269,COUNTIFS(JustDates,'A Chart'!$A270,JustProducts,'A Chart'!C$1)+C269)","v":0}]
["2010-05-06",{"$f":"IF($A270=Quote_date,B270,COUNTIFS(JustDates,'A Chart'!$A271,JustProducts,'A Chart'!B$1)+B270)","v":0},{"$f":"IF($A270=Quote_date,C270,COUNTIFS(JustDates,'A Chart'!$A271,JustProducts,'A Chart'!C$1)+C270)","v":0}]
["2010-05-06",{"$f":"IF($A271=Quote_date,B271,COUNTIFS(JustDates,'A Chart'!$A272,JustProducts,'A Chart'!B$1)+B271)","v":0},{"$f":"IF($A271=Quote_date,C271,COUNTIFS(JustDates,'A Chart'!$A272,JustProducts,'A Chart'!C$1)+C271)","v":0}]
["2010-05-06",{"$f":"IF($A272=Quote_date,B272,COUNTIFS(JustDates,'A Chart'!$A273,JustProducts,'A Chart'!B$1)+B272)","v":0},{"$f":"IF($A272=Quote_date,C272,COUNTIFS(JustDates,'A Chart'!$A273,JustProducts,'A Chart'!C$1)+C272)","v":0}]
["2010-05-06",{"$f":"IF($A273=Quote_date,B273,COUNTIFS(JustDates,'A Chart'!$A274,JustProducts,'A Chart'!B$1)+B273)","v":0},{"$f":"IF($A273=Quote_date,C273,COUNTIFS(JustDates,'A Chart'!$A274,JustProducts,'A Chart'!C$1)+C273)","v":0}]
["2010-05-06",{"$f":"IF($A274=Quote_date,B274,COUNTIFS(JustDates,'A Chart'!$A275,JustProducts,'A Chart'!B$1)+B274)","v":0},{"$f":"IF($A274=Quote_date,C274,COUNTIFS(JustDates,'A Chart'!$A275,JustProducts,'A Chart'!C$1)+C274)","v":0}]
["2010-05-06",{"$f":"IF($A275=Quote_date,B275,COUNTIFS(JustDates,'A Chart'!$A276,JustProducts,'A Chart'!B$1)+B275)","v":0},{"$f":"IF($A275=Quote_date,C275,COUNTIFS(JustDates,'A Chart'!$A276,JustProducts,'A Chart'!C$1)+C275)","v":0}]
["2010-05-06",{"$f":"IF($A276=Quote_date,B276,COUNTIFS(JustDates,'A Chart'!$A277,JustProducts,'A Chart'!B$1)+B276)","v":0},{"$f":"IF($A276=Quote_date,C276,COUNTIFS(JustDates,'A Chart'!$A277,JustProducts,'A Chart'!C$1)+C276)","v":0}]
["2010-05-06",{"$f":"IF($A277=Quote_date,B277,COUNTIFS(JustDates,'A Chart'!$A278,JustProducts,'A Chart'!B$1)+B277)","v":0},{"$f":"IF($A277=Quote_date,C277,COUNTIFS(JustDates,'A Chart'!$A278,JustProducts,'A Chart'!C$1)+C277)","v":0}]
["2010-05-06",{"$f":"IF($A278=Quote_date,B278,COUNTIFS(JustDates,'A Chart'!$A279,JustProducts,'A Chart'!B$1)+B278)","v":0},{"$f":"IF($A278=Quote_date,C278,COUNTIFS(JustDates,'A Chart'!$A279,JustProducts,'A Chart'!C$1)+C278)","v":0}]